BEGIN:VCALENDAR
VERSION:2.0
PRODID:-//kymenwiener.fi - ECPv6.15.20//NONSGML v1.0//EN
CALSCALE:GREGORIAN
METHOD:PUBLISH
X-WR-CALNAME:kymenwiener.fi
X-ORIGINAL-URL:https://www.kymenwiener.fi
X-WR-CALDESC:Tapahtumat kymenwiener.fi
REFRESH-INTERVAL;VALUE=DURATION:PT1H
X-Robots-Tag:noindex
X-PUBLISHED-TTL:PT1H
BEGIN:VTIMEZONE
TZID:Europe/Helsinki
BEGIN:DAYLIGHT
TZOFFSETFROM:+0200
TZOFFSETTO:+0300
TZNAME:EEST
DTSTART:20240331T010000
END:DAYLIGHT
BEGIN:STANDARD
TZOFFSETFROM:+0300
TZOFFSETTO:+0200
TZNAME:EET
DTSTART:20241027T010000
END:STANDARD
BEGIN:DAYLIGHT
TZOFFSETFROM:+0200
TZOFFSETTO:+0300
TZNAME:EEST
DTSTART:20250330T010000
END:DAYLIGHT
BEGIN:STANDARD
TZOFFSETFROM:+0300
TZOFFSETTO:+0200
TZNAME:EET
DTSTART:20251026T010000
END:STANDARD
BEGIN:DAYLIGHT
TZOFFSETFROM:+0200
TZOFFSETTO:+0300
TZNAME:EEST
DTSTART:20260329T010000
END:DAYLIGHT
BEGIN:STANDARD
TZOFFSETFROM:+0300
TZOFFSETTO:+0200
TZNAME:EET
DTSTART:20261025T010000
END:STANDARD
END:VTIMEZONE
BEGIN:VEVENT
DTSTART;TZID=Europe/Helsinki:20250703T103000
DTEND;TZID=Europe/Helsinki:20250703T140000
DTSTAMP:20260424T155827
CREATED:20250627T105259Z
LAST-MODIFIED:20250627T105259Z
UID:1222-1751538600-1751551200@www.kymenwiener.fi
SUMMARY:Torstai  3.7
DESCRIPTION:Maksaa\, pekonia ja sipulia kermassa \nLihapullat ( oma tekemät) \n 
URL:https://www.kymenwiener.fi/event/torstai-3-7/
LOCATION:Kymen Wiener\, Laturinkatu 2\, Kouvola\, 45130\, Suomi
CATEGORIES:Lounas
END:VEVENT
BEGIN:VEVENT
DTSTART;TZID=Europe/Helsinki:20250704T103000
DTEND;TZID=Europe/Helsinki:20250704T140000
DTSTAMP:20260424T155827
CREATED:20250627T105432Z
LAST-MODIFIED:20250627T105432Z
UID:1224-1751625000-1751637600@www.kymenwiener.fi
SUMMARY:Perjantai  4.7
DESCRIPTION:Paistettua täytettyä kampelaa \nKinkku-tomaattipastaa
URL:https://www.kymenwiener.fi/event/perjantai-4-7/
LOCATION:Kymen Wiener\, Laturinkatu 2\, Kouvola\, 45130\, Suomi
CATEGORIES:Lounas
END:VEVENT
BEGIN:VEVENT
DTSTART;TZID=Europe/Helsinki:20250707T103000
DTEND;TZID=Europe/Helsinki:20250707T140000
DTSTAMP:20260424T155827
CREATED:20250704T100407Z
LAST-MODIFIED:20250704T100407Z
UID:1227-1751884200-1751896800@www.kymenwiener.fi
SUMMARY:Maanantai 7.7
DESCRIPTION:Broilerileike \nJauhelihakiusaus
URL:https://www.kymenwiener.fi/event/maanantai-7-7/
LOCATION:Kymen Wiener\, Laturinkatu 2\, Kouvola\, 45130\, Suomi
CATEGORIES:Lounas
END:VEVENT
BEGIN:VEVENT
DTSTART;TZID=Europe/Helsinki:20250708T103000
DTEND;TZID=Europe/Helsinki:20250708T140000
DTSTAMP:20260424T155827
CREATED:20250704T100613Z
LAST-MODIFIED:20250704T100613Z
UID:1229-1751970600-1751983200@www.kymenwiener.fi
SUMMARY:Tiistai 8.7
DESCRIPTION:Täytetty kalaleike \nLäskisoossi ja possua + koskenlaskijaa \n 
URL:https://www.kymenwiener.fi/event/tiistai-8-7/
LOCATION:Kymen Wiener\, Laturinkatu 2\, Kouvola\, 45130\, Suomi
CATEGORIES:Lounas
END:VEVENT
BEGIN:VEVENT
DTSTART;TZID=Europe/Helsinki:20250709T103000
DTEND;TZID=Europe/Helsinki:20250709T140000
DTSTAMP:20260424T155827
CREATED:20250704T100925Z
LAST-MODIFIED:20250704T100940Z
UID:1231-1752057000-1752069600@www.kymenwiener.fi
SUMMARY:Keskiviikko  9.7
DESCRIPTION:Lohikiusaus \nHavajinpihvi ( oma tekemä) \n(jauhelihapihvi + ananasta) \n 
URL:https://www.kymenwiener.fi/event/keskiviikko-9-7/
LOCATION:Kymen Wiener\, Laturinkatu 2\, Kouvola\, 45130\, Suomi
CATEGORIES:Lounas
END:VEVENT
BEGIN:VEVENT
DTSTART;TZID=Europe/Helsinki:20250710T103000
DTEND;TZID=Europe/Helsinki:20250710T140000
DTSTAMP:20260424T155827
CREATED:20250704T101146Z
LAST-MODIFIED:20250704T101146Z
UID:1233-1752143400-1752156000@www.kymenwiener.fi
SUMMARY:Torstai  10.7
DESCRIPTION:Broileria tomaattikermassa \nmakkara-juustopihvit \n 
URL:https://www.kymenwiener.fi/event/torstai-10-7/
LOCATION:Kymen Wiener\, Laturinkatu 2\, Kouvola\, 45130\, Suomi
CATEGORIES:Lounas
END:VEVENT
BEGIN:VEVENT
DTSTART;TZID=Europe/Helsinki:20250711T103000
DTEND;TZID=Europe/Helsinki:20250711T140000
DTSTAMP:20260424T155827
CREATED:20250704T101406Z
LAST-MODIFIED:20250704T101406Z
UID:1235-1752229800-1752242400@www.kymenwiener.fi
SUMMARY:Perjantai  11.7
DESCRIPTION:Paistetut muikut \nJauhelihamakaronilaatikko
URL:https://www.kymenwiener.fi/event/perjantai-11-7/
LOCATION:Kymen Wiener\, Laturinkatu 2\, Kouvola\, 45130\, Suomi
CATEGORIES:Lounas
END:VEVENT
BEGIN:VEVENT
DTSTART;TZID=Europe/Helsinki:20250714T103000
DTEND;TZID=Europe/Helsinki:20250714T140000
DTSTAMP:20260424T155827
CREATED:20250711T102847Z
LAST-MODIFIED:20250714T112207Z
UID:1237-1752489000-1752501600@www.kymenwiener.fi
SUMMARY:Maanantai 14.7
DESCRIPTION:Paistettua kalaa \nOlut-lihapata
URL:https://www.kymenwiener.fi/event/maanantai-14-7/
LOCATION:Kymen Wiener\, Laturinkatu 2\, Kouvola\, 45130\, Suomi
CATEGORIES:Lounas
END:VEVENT
BEGIN:VEVENT
DTSTART;TZID=Europe/Helsinki:20250715T103000
DTEND;TZID=Europe/Helsinki:20250715T140000
DTSTAMP:20260424T155827
CREATED:20250711T103024Z
LAST-MODIFIED:20250714T112141Z
UID:1239-1752575400-1752588000@www.kymenwiener.fi
SUMMARY:Tiistai 15.7
DESCRIPTION:Palvilihan juusto-jalapeno makkaraa \nJauhelihakastike & spagetti \n 
URL:https://www.kymenwiener.fi/event/tiistai-15-7/
LOCATION:Kymen Wiener\, Laturinkatu 2\, Kouvola\, 45130\, Suomi
CATEGORIES:Lounas
END:VEVENT
BEGIN:VEVENT
DTSTART;TZID=Europe/Helsinki:20250716T103000
DTEND;TZID=Europe/Helsinki:20250716T140000
DTSTAMP:20260424T155827
CREATED:20250711T103149Z
LAST-MODIFIED:20250714T112123Z
UID:1241-1752661800-1752674400@www.kymenwiener.fi
SUMMARY:Keskiviikko  16.7
DESCRIPTION:Sipsikuorrutettua kanaa \nMaksa-aurajuustopata \n  \n 
URL:https://www.kymenwiener.fi/event/keskiviikko-16-7/
LOCATION:Kymen Wiener\, Laturinkatu 2\, Kouvola\, 45130\, Suomi
CATEGORIES:Lounas
END:VEVENT
BEGIN:VEVENT
DTSTART;TZID=Europe/Helsinki:20250717T103000
DTEND;TZID=Europe/Helsinki:20250717T140000
DTSTAMP:20260424T155827
CREATED:20250711T103329Z
LAST-MODIFIED:20250714T112041Z
UID:1243-1752748200-1752760800@www.kymenwiener.fi
SUMMARY:Torstai  17.7
DESCRIPTION:Paistettua kampelaa \nPossunfilettä & juustoperunaa \n 
URL:https://www.kymenwiener.fi/event/torstai-17-7/
LOCATION:Kymen Wiener\, Laturinkatu 2\, Kouvola\, 45130\, Suomi
CATEGORIES:Lounas
END:VEVENT
BEGIN:VEVENT
DTSTART;TZID=Europe/Helsinki:20250718T103000
DTEND;TZID=Europe/Helsinki:20250718T140000
DTSTAMP:20260424T155827
CREATED:20250711T103432Z
LAST-MODIFIED:20250714T112008Z
UID:1245-1752834600-1752847200@www.kymenwiener.fi
SUMMARY:Perjantai  18.7
DESCRIPTION:Nakkipannu \nKaalikääryleet
URL:https://www.kymenwiener.fi/event/perjantai-18-7/
LOCATION:Kymen Wiener\, Laturinkatu 2\, Kouvola\, 45130\, Suomi
CATEGORIES:Lounas
END:VEVENT
BEGIN:VEVENT
DTSTART;TZID=Europe/Helsinki:20250721T103000
DTEND;TZID=Europe/Helsinki:20250721T140000
DTSTAMP:20260424T155827
CREATED:20250718T112440Z
LAST-MODIFIED:20250718T112440Z
UID:1253-1753093800-1753106400@www.kymenwiener.fi
SUMMARY:Maanantai 21.7
DESCRIPTION:Paistettua puna-ahventa \nHedelmäinen kasslerpihvi
URL:https://www.kymenwiener.fi/event/maanantai-21-7/
LOCATION:Kymen Wiener\, Laturinkatu 2\, Kouvola\, 45130\, Suomi
CATEGORIES:Lounas
END:VEVENT
BEGIN:VEVENT
DTSTART;TZID=Europe/Helsinki:20250722T103000
DTEND;TZID=Europe/Helsinki:20250722T140000
DTSTAMP:20260424T155827
CREATED:20250718T112549Z
LAST-MODIFIED:20250718T112549Z
UID:1255-1753180200-1753192800@www.kymenwiener.fi
SUMMARY:Tiistai 22.7
DESCRIPTION:Täytetty kalkkunapihvi \nUunimakkaraa \n 
URL:https://www.kymenwiener.fi/event/tiistai-22-7/
LOCATION:Kymen Wiener\, Laturinkatu 2\, Kouvola\, 45130\, Suomi
CATEGORIES:Lounas
END:VEVENT
BEGIN:VEVENT
DTSTART;TZID=Europe/Helsinki:20250723T103000
DTEND;TZID=Europe/Helsinki:20250723T140000
DTSTAMP:20260424T155827
CREATED:20250718T112705Z
LAST-MODIFIED:20250718T112705Z
UID:1257-1753266600-1753279200@www.kymenwiener.fi
SUMMARY:Keskiviikko  23.7
DESCRIPTION:Maksaa\, pekonia ja sipulia kermassa \nJauhelihamureke ( oma tekemä) \n  \n 
URL:https://www.kymenwiener.fi/event/keskiviikko-23-7/
LOCATION:Kymen Wiener\, Laturinkatu 2\, Kouvola\, 45130\, Suomi
CATEGORIES:Lounas
END:VEVENT
BEGIN:VEVENT
DTSTART;TZID=Europe/Helsinki:20250724T103000
DTEND;TZID=Europe/Helsinki:20250724T140000
DTSTAMP:20260424T155827
CREATED:20250718T112839Z
LAST-MODIFIED:20250718T112839Z
UID:1259-1753353000-1753365600@www.kymenwiener.fi
SUMMARY:Torstai  24.7
DESCRIPTION:Yrtti-juustokalaleike \nPaholaisen broileripata \n 
URL:https://www.kymenwiener.fi/event/torstai-24-7/
LOCATION:Kymen Wiener\, Laturinkatu 2\, Kouvola\, 45130\, Suomi
CATEGORIES:Lounas
END:VEVENT
BEGIN:VEVENT
DTSTART;TZID=Europe/Helsinki:20250725T103000
DTEND;TZID=Europe/Helsinki:20250725T140000
DTSTAMP:20260424T155827
CREATED:20250718T113001Z
LAST-MODIFIED:20250718T113001Z
UID:1261-1753439400-1753452000@www.kymenwiener.fi
SUMMARY:Perjantai  25.7
DESCRIPTION:Makkarakastike \nKinkku- pekoni -sipulipasta
URL:https://www.kymenwiener.fi/event/perjantai-25-7/
LOCATION:Kymen Wiener\, Laturinkatu 2\, Kouvola\, 45130\, Suomi
CATEGORIES:Lounas
END:VEVENT
BEGIN:VEVENT
DTSTART;TZID=Europe/Helsinki:20250728T103000
DTEND;TZID=Europe/Helsinki:20250728T140000
DTSTAMP:20260424T155827
CREATED:20250725T090600Z
LAST-MODIFIED:20250725T090600Z
UID:1263-1753698600-1753711200@www.kymenwiener.fi
SUMMARY:Maanantai 28.7
DESCRIPTION:Rapea broilerileike \nJuustoinen jauhelihamakaronilaatikko
URL:https://www.kymenwiener.fi/event/maanantai-28-7/
LOCATION:Kymen Wiener\, Laturinkatu 2\, Kouvola\, 45130\, Suomi
CATEGORIES:Lounas
END:VEVENT
BEGIN:VEVENT
DTSTART;TZID=Europe/Helsinki:20250729T103000
DTEND;TZID=Europe/Helsinki:20250729T140000
DTSTAMP:20260424T155827
CREATED:20250725T090706Z
LAST-MODIFIED:20250725T090706Z
UID:1265-1753785000-1753797600@www.kymenwiener.fi
SUMMARY:Tiistai 29.7
DESCRIPTION:Janssonin kiusaus \nMakkara-juustopihvit \n 
URL:https://www.kymenwiener.fi/event/tiistai-29-7/
LOCATION:Kymen Wiener\, Laturinkatu 2\, Kouvola\, 45130\, Suomi
CATEGORIES:Lounas
END:VEVENT
BEGIN:VEVENT
DTSTART;TZID=Europe/Helsinki:20250730T103000
DTEND;TZID=Europe/Helsinki:20250730T140000
DTSTAMP:20260424T155827
CREATED:20250725T090844Z
LAST-MODIFIED:20250725T090844Z
UID:1267-1753871400-1753884000@www.kymenwiener.fi
SUMMARY:Keskiviikko  30.7
DESCRIPTION:Sweet chili broileria \nLihapullat ( oma tekemät) \n  \n 
URL:https://www.kymenwiener.fi/event/keskiviikko-30-7/
LOCATION:Kymen Wiener\, Laturinkatu 2\, Kouvola\, 45130\, Suomi
CATEGORIES:Lounas
END:VEVENT
BEGIN:VEVENT
DTSTART;TZID=Europe/Helsinki:20250731T103000
DTEND;TZID=Europe/Helsinki:20250731T140000
DTSTAMP:20260424T155827
CREATED:20250725T091007Z
LAST-MODIFIED:20250725T091007Z
UID:1269-1753957800-1753970400@www.kymenwiener.fi
SUMMARY:Torstai  31.7
DESCRIPTION:Jääkarhun päiväuni ( seitä ja kananmunakastike) \nPossunleike ja valkosipuliperunat \n 
URL:https://www.kymenwiener.fi/event/torstai-31-7/
LOCATION:Kymen Wiener\, Laturinkatu 2\, Kouvola\, 45130\, Suomi
CATEGORIES:Lounas
END:VEVENT
BEGIN:VEVENT
DTSTART;TZID=Europe/Helsinki:20250801T103000
DTEND;TZID=Europe/Helsinki:20250801T140000
DTSTAMP:20260424T155827
CREATED:20250725T091214Z
LAST-MODIFIED:20250725T091214Z
UID:1271-1754044200-1754056800@www.kymenwiener.fi
SUMMARY:Perjantai  1.8
DESCRIPTION:Sinappimakkaraa \nJauheliha stroganoff
URL:https://www.kymenwiener.fi/event/perjantai-1-8/
LOCATION:Kymen Wiener\, Laturinkatu 2\, Kouvola\, 45130\, Suomi
CATEGORIES:Lounas
END:VEVENT
BEGIN:VEVENT
DTSTART;TZID=Europe/Helsinki:20250804T103000
DTEND;TZID=Europe/Helsinki:20250804T140000
DTSTAMP:20260424T155827
CREATED:20250731T114141Z
LAST-MODIFIED:20250731T114141Z
UID:1274-1754303400-1754316000@www.kymenwiener.fi
SUMMARY:Maanantai 4.8
DESCRIPTION:Pinaatti täytteinen kalarulla \nPyttipannu
URL:https://www.kymenwiener.fi/event/maanantai-4-8/
LOCATION:Kymen Wiener\, Laturinkatu 2\, Kouvola\, 45130\, Suomi
CATEGORIES:Lounas
END:VEVENT
BEGIN:VEVENT
DTSTART;TZID=Europe/Helsinki:20250805T103000
DTEND;TZID=Europe/Helsinki:20250805T140000
DTSTAMP:20260424T155827
CREATED:20250731T114247Z
LAST-MODIFIED:20250731T114247Z
UID:1275-1754389800-1754402400@www.kymenwiener.fi
SUMMARY:Tiistai 5.8
DESCRIPTION:Maalaiskanan paistileike \nKaalilaatikko \n 
URL:https://www.kymenwiener.fi/event/tiistai-5-8/
LOCATION:Kymen Wiener\, Laturinkatu 2\, Kouvola\, 45130\, Suomi
CATEGORIES:Lounas
END:VEVENT
BEGIN:VEVENT
DTSTART;TZID=Europe/Helsinki:20250806T103000
DTEND;TZID=Europe/Helsinki:20250806T140000
DTSTAMP:20260424T155827
CREATED:20250731T114405Z
LAST-MODIFIED:20250731T114405Z
UID:1276-1754476200-1754488800@www.kymenwiener.fi
SUMMARY:Keskiviikko  6.8
DESCRIPTION:Lohimurekepihvit \nPekoni-sinappi possunfile \n  \n 
URL:https://www.kymenwiener.fi/event/keskiviikko-6-8/
LOCATION:Kymen Wiener\, Laturinkatu 2\, Kouvola\, 45130\, Suomi
CATEGORIES:Lounas
END:VEVENT
BEGIN:VEVENT
DTSTART;TZID=Europe/Helsinki:20250807T103000
DTEND;TZID=Europe/Helsinki:20250807T140000
DTSTAMP:20260424T155827
CREATED:20250731T114541Z
LAST-MODIFIED:20250731T114541Z
UID:1277-1754562600-1754575200@www.kymenwiener.fi
SUMMARY:Torstai  7.8
DESCRIPTION:Broilerilasagne \nJauhelihapihvi (oma tekemä) & herkkusienikastike \n 
URL:https://www.kymenwiener.fi/event/torstai-7-8/
LOCATION:Kymen Wiener\, Laturinkatu 2\, Kouvola\, 45130\, Suomi
CATEGORIES:Lounas
END:VEVENT
BEGIN:VEVENT
DTSTART;TZID=Europe/Helsinki:20250808T103000
DTEND;TZID=Europe/Helsinki:20250808T140000
DTSTAMP:20260424T155827
CREATED:20250731T114634Z
LAST-MODIFIED:20250731T114634Z
UID:1278-1754649000-1754661600@www.kymenwiener.fi
SUMMARY:Perjantai  8.8
DESCRIPTION:Kinkku-juustomunakas \nNakkikastike
URL:https://www.kymenwiener.fi/event/perjantai-8-8/
LOCATION:Kymen Wiener\, Laturinkatu 2\, Kouvola\, 45130\, Suomi
CATEGORIES:Lounas
END:VEVENT
BEGIN:VEVENT
DTSTART;TZID=Europe/Helsinki:20250811T103000
DTEND;TZID=Europe/Helsinki:20250811T140000
DTSTAMP:20260424T155827
CREATED:20250808T104118Z
LAST-MODIFIED:20250808T104118Z
UID:1286-1754908200-1754920800@www.kymenwiener.fi
SUMMARY:Maanantai 11.8
DESCRIPTION:Broileriwokki \nJauhelihaperunasoselaatikko
URL:https://www.kymenwiener.fi/event/maanantai-11-8/
LOCATION:Kymen Wiener\, Laturinkatu 2\, Kouvola\, 45130\, Suomi
CATEGORIES:Lounas
END:VEVENT
BEGIN:VEVENT
DTSTART;TZID=Europe/Helsinki:20250812T103000
DTEND;TZID=Europe/Helsinki:20250812T140000
DTSTAMP:20260424T155827
CREATED:20250808T104311Z
LAST-MODIFIED:20250808T104311Z
UID:1288-1754994600-1755007200@www.kymenwiener.fi
SUMMARY:Tiistai 12.8
DESCRIPTION:Paistettua puna-ahventa\,kampelaa \nPippurinen possupata ja läskisoossi \n 
URL:https://www.kymenwiener.fi/event/tiistai-12-8/
LOCATION:Kymen Wiener\, Laturinkatu 2\, Kouvola\, 45130\, Suomi
CATEGORIES:Lounas
END:VEVENT
BEGIN:VEVENT
DTSTART;TZID=Europe/Helsinki:20250813T103000
DTEND;TZID=Europe/Helsinki:20250813T140000
DTSTAMP:20260424T155827
CREATED:20250808T104432Z
LAST-MODIFIED:20250808T104432Z
UID:1290-1755081000-1755093600@www.kymenwiener.fi
SUMMARY:Keskiviikko  13.8
DESCRIPTION:Kermainen maksapata \nPaistettua makkaraa \n  \n 
URL:https://www.kymenwiener.fi/event/keskiviikko-13-8/
LOCATION:Kymen Wiener\, Laturinkatu 2\, Kouvola\, 45130\, Suomi
CATEGORIES:Lounas
END:VEVENT
END:VCALENDAR