BEGIN:VCALENDAR
VERSION:2.0
PRODID:-//kymenwiener.fi - ECPv6.15.20//NONSGML v1.0//EN
CALSCALE:GREGORIAN
METHOD:PUBLISH
X-WR-CALNAME:kymenwiener.fi
X-ORIGINAL-URL:https://www.kymenwiener.fi
X-WR-CALDESC:Tapahtumat kymenwiener.fi
REFRESH-INTERVAL;VALUE=DURATION:PT1H
X-Robots-Tag:noindex
X-PUBLISHED-TTL:PT1H
BEGIN:VTIMEZONE
TZID:Europe/Helsinki
BEGIN:DAYLIGHT
TZOFFSETFROM:+0200
TZOFFSETTO:+0300
TZNAME:EEST
DTSTART:20240331T010000
END:DAYLIGHT
BEGIN:STANDARD
TZOFFSETFROM:+0300
TZOFFSETTO:+0200
TZNAME:EET
DTSTART:20241027T010000
END:STANDARD
BEGIN:DAYLIGHT
TZOFFSETFROM:+0200
TZOFFSETTO:+0300
TZNAME:EEST
DTSTART:20250330T010000
END:DAYLIGHT
BEGIN:STANDARD
TZOFFSETFROM:+0300
TZOFFSETTO:+0200
TZNAME:EET
DTSTART:20251026T010000
END:STANDARD
BEGIN:DAYLIGHT
TZOFFSETFROM:+0200
TZOFFSETTO:+0300
TZNAME:EEST
DTSTART:20260329T010000
END:DAYLIGHT
BEGIN:STANDARD
TZOFFSETFROM:+0300
TZOFFSETTO:+0200
TZNAME:EET
DTSTART:20261025T010000
END:STANDARD
END:VTIMEZONE
BEGIN:VEVENT
DTSTART;TZID=Europe/Helsinki:20251031T103000
DTEND;TZID=Europe/Helsinki:20251031T140000
DTSTAMP:20260424T070537
CREATED:20251023T115814Z
LAST-MODIFIED:20251023T115814Z
UID:1412-1761906600-1761919200@www.kymenwiener.fi
SUMMARY:Perjantai  31.10
DESCRIPTION:Italian pataa \nKinkku-juustomunakas
URL:https://www.kymenwiener.fi/event/perjantai-31-10/
LOCATION:Kymen Wiener\, Laturinkatu 2\, Kouvola\, 45130\, Suomi
CATEGORIES:Lounas
END:VEVENT
BEGIN:VEVENT
DTSTART;TZID=Europe/Helsinki:20251103T103000
DTEND;TZID=Europe/Helsinki:20251103T140000
DTSTAMP:20260424T070537
CREATED:20251031T102043Z
LAST-MODIFIED:20251031T115444Z
UID:1415-1762165800-1762178400@www.kymenwiener.fi
SUMMARY:Maanantai  3.11
DESCRIPTION:Paistettuja kaloja \nKinkku-metvurstipasta \n  \n 
URL:https://www.kymenwiener.fi/event/maanantai-3-11/
LOCATION:Kymen Wiener\, Laturinkatu 2\, Kouvola\, 45130\, Suomi
CATEGORIES:Lounas
END:VEVENT
BEGIN:VEVENT
DTSTART;TZID=Europe/Helsinki:20251104T103000
DTEND;TZID=Europe/Helsinki:20251104T140000
DTSTAMP:20260424T070537
CREATED:20251031T102222Z
LAST-MODIFIED:20251031T102222Z
UID:1417-1762252200-1762264800@www.kymenwiener.fi
SUMMARY:Tiistai 4.11
DESCRIPTION:Paistettua puna-ahventa \nLihapullat ( oma tekemät) \n 
URL:https://www.kymenwiener.fi/event/tiistai-4-11/
LOCATION:Kymen Wiener\, Laturinkatu 2\, Kouvola\, 45130\, Suomi
CATEGORIES:Lounas
END:VEVENT
BEGIN:VEVENT
DTSTART;TZID=Europe/Helsinki:20251105T103000
DTEND;TZID=Europe/Helsinki:20251105T140000
DTSTAMP:20260424T070537
CREATED:20251031T102356Z
LAST-MODIFIED:20251031T102356Z
UID:1419-1762338600-1762351200@www.kymenwiener.fi
SUMMARY:Keskiviikko  5.11
DESCRIPTION:Broileripihvi \nChilil-sulatejuustomakkarakiusaus \n  \n 
URL:https://www.kymenwiener.fi/event/keskiviikko-5-11/
LOCATION:Kymen Wiener\, Laturinkatu 2\, Kouvola\, 45130\, Suomi
CATEGORIES:Lounas
END:VEVENT
BEGIN:VEVENT
DTSTART;TZID=Europe/Helsinki:20251106T103000
DTEND;TZID=Europe/Helsinki:20251106T140000
DTSTAMP:20260424T070537
CREATED:20251031T102527Z
LAST-MODIFIED:20251031T102527Z
UID:1421-1762425000-1762437600@www.kymenwiener.fi
SUMMARY:Torstai  6.11
DESCRIPTION:Maksaa\, pekonia ja sipulia kermassa \nPossupihvi kastikkeessa \n 
URL:https://www.kymenwiener.fi/event/torstai-6-11/
LOCATION:Kymen Wiener\, Laturinkatu 2\, Kouvola\, 45130\, Suomi
CATEGORIES:Lounas
END:VEVENT
BEGIN:VEVENT
DTSTART;TZID=Europe/Helsinki:20251107T103000
DTEND;TZID=Europe/Helsinki:20251107T140000
DTSTAMP:20260424T070537
CREATED:20251031T102701Z
LAST-MODIFIED:20251031T102701Z
UID:1423-1762511400-1762524000@www.kymenwiener.fi
SUMMARY:Perjantai  7.11
DESCRIPTION:Paistetut muikut \nUunilenkkiä ja juustoperunat
URL:https://www.kymenwiener.fi/event/perjantai-7-11/
LOCATION:Kymen Wiener\, Laturinkatu 2\, Kouvola\, 45130\, Suomi
CATEGORIES:Lounas
END:VEVENT
BEGIN:VEVENT
DTSTART;TZID=Europe/Helsinki:20251110T103000
DTEND;TZID=Europe/Helsinki:20251110T140000
DTSTAMP:20260424T070537
CREATED:20251107T110239Z
LAST-MODIFIED:20251107T110239Z
UID:1425-1762770600-1762783200@www.kymenwiener.fi
SUMMARY:Maanantai  10.11
DESCRIPTION:Kievin kanaa \nKebabkastike \n  \n 
URL:https://www.kymenwiener.fi/event/maanantai-10-11/
LOCATION:Kymen Wiener\, Laturinkatu 2\, Kouvola\, 45130\, Suomi
CATEGORIES:Lounas
END:VEVENT
BEGIN:VEVENT
DTSTART;TZID=Europe/Helsinki:20251111T103000
DTEND;TZID=Europe/Helsinki:20251111T140000
DTSTAMP:20260424T070537
CREATED:20251107T110406Z
LAST-MODIFIED:20251107T110406Z
UID:1427-1762857000-1762869600@www.kymenwiener.fi
SUMMARY:Tiistai 11.11
DESCRIPTION:Makkarakastike \nJauhelihalasagne \n 
URL:https://www.kymenwiener.fi/event/tiistai-11-11/
LOCATION:Kymen Wiener\, Laturinkatu 2\, Kouvola\, 45130\, Suomi
CATEGORIES:Lounas
END:VEVENT
BEGIN:VEVENT
DTSTART;TZID=Europe/Helsinki:20251112T103000
DTEND;TZID=Europe/Helsinki:20251112T140000
DTSTAMP:20260424T070537
CREATED:20251107T110548Z
LAST-MODIFIED:20251107T110548Z
UID:1429-1762943400-1762956000@www.kymenwiener.fi
SUMMARY:Keskiviikko  12.11
DESCRIPTION:Silakkapihvit ( juustotäyte) \nPippurikasleria ja valkosipuliperunat \n  \n 
URL:https://www.kymenwiener.fi/event/keskiviikko-12-11/
LOCATION:Kymen Wiener\, Laturinkatu 2\, Kouvola\, 45130\, Suomi
CATEGORIES:Lounas
END:VEVENT
BEGIN:VEVENT
DTSTART;TZID=Europe/Helsinki:20251113T103000
DTEND;TZID=Europe/Helsinki:20251113T140000
DTSTAMP:20260424T070537
CREATED:20251107T110725Z
LAST-MODIFIED:20251107T110725Z
UID:1431-1763029800-1763042400@www.kymenwiener.fi
SUMMARY:Torstai  13.11
DESCRIPTION:Jauhemaksa-pekoni-kasvispihvit \nBroileripata \n 
URL:https://www.kymenwiener.fi/event/torstai-13-11/
LOCATION:Kymen Wiener\, Laturinkatu 2\, Kouvola\, 45130\, Suomi
CATEGORIES:Lounas
END:VEVENT
BEGIN:VEVENT
DTSTART;TZID=Europe/Helsinki:20251114T103000
DTEND;TZID=Europe/Helsinki:20251114T140000
DTSTAMP:20260424T070537
CREATED:20251107T110847Z
LAST-MODIFIED:20251107T110847Z
UID:1433-1763116200-1763128800@www.kymenwiener.fi
SUMMARY:Perjantai  14.11
DESCRIPTION:Jääkarhun päiväuni ( seitä ja kananmunakastike) \nMakkarapannu
URL:https://www.kymenwiener.fi/event/perjantai-14-11/
LOCATION:Kymen Wiener\, Laturinkatu 2\, Kouvola\, 45130\, Suomi
CATEGORIES:Lounas
END:VEVENT
BEGIN:VEVENT
DTSTART;TZID=Europe/Helsinki:20251117T103000
DTEND;TZID=Europe/Helsinki:20251117T140000
DTSTAMP:20260424T070537
CREATED:20251114T112736Z
LAST-MODIFIED:20251114T112736Z
UID:1436-1763375400-1763388000@www.kymenwiener.fi
SUMMARY:Maanantai  17.11
DESCRIPTION:Makkara-sipulimunakas \nJuustoinen jauhelihamakaronilaatikko \n  \n 
URL:https://www.kymenwiener.fi/event/maanantai-17-11/
LOCATION:Kymen Wiener\, Laturinkatu 2\, Kouvola\, 45130\, Suomi
CATEGORIES:Lounas
END:VEVENT
BEGIN:VEVENT
DTSTART;TZID=Europe/Helsinki:20251118T103000
DTEND;TZID=Europe/Helsinki:20251118T140000
DTSTAMP:20260424T070537
CREATED:20251114T112839Z
LAST-MODIFIED:20251114T112839Z
UID:1438-1763461800-1763474400@www.kymenwiener.fi
SUMMARY:Tiistai 18.11
DESCRIPTION:Paistettua broileria \nLäskisoossi \n 
URL:https://www.kymenwiener.fi/event/tiistai-18-11/
LOCATION:Kymen Wiener\, Laturinkatu 2\, Kouvola\, 45130\, Suomi
CATEGORIES:Lounas
END:VEVENT
BEGIN:VEVENT
DTSTART;TZID=Europe/Helsinki:20251119T103000
DTEND;TZID=Europe/Helsinki:20251119T140000
DTSTAMP:20260424T070537
CREATED:20251114T112955Z
LAST-MODIFIED:20251114T112955Z
UID:1440-1763548200-1763560800@www.kymenwiener.fi
SUMMARY:Keskiviikko  19.11
DESCRIPTION:Nakki-perunavuoka \nJauhelihapihvi ( oma tekemä) \n  \n 
URL:https://www.kymenwiener.fi/event/keskiviikko-19-11/
LOCATION:Kymen Wiener\, Laturinkatu 2\, Kouvola\, 45130\, Suomi
CATEGORIES:Lounas
END:VEVENT
BEGIN:VEVENT
DTSTART;TZID=Europe/Helsinki:20251120T103000
DTEND;TZID=Europe/Helsinki:20251120T140000
DTSTAMP:20260424T070537
CREATED:20251114T113111Z
LAST-MODIFIED:20251114T113111Z
UID:1442-1763634600-1763647200@www.kymenwiener.fi
SUMMARY:Torstai  20.11
DESCRIPTION:Paistettua kampelaa \nKarjalanpaistia \n 
URL:https://www.kymenwiener.fi/event/torstai-20-11/
LOCATION:Kymen Wiener\, Laturinkatu 2\, Kouvola\, 45130\, Suomi
CATEGORIES:Lounas
END:VEVENT
BEGIN:VEVENT
DTSTART;TZID=Europe/Helsinki:20251121T103000
DTEND;TZID=Europe/Helsinki:20251121T140000
DTSTAMP:20260424T070537
CREATED:20251114T113227Z
LAST-MODIFIED:20251114T113227Z
UID:1444-1763721000-1763733600@www.kymenwiener.fi
SUMMARY:Perjantai  21.11
DESCRIPTION:Broileriwokki \nSinappimakkaraa
URL:https://www.kymenwiener.fi/event/perjantai-21-11/
LOCATION:Kymen Wiener\, Laturinkatu 2\, Kouvola\, 45130\, Suomi
CATEGORIES:Lounas
END:VEVENT
BEGIN:VEVENT
DTSTART;TZID=Europe/Helsinki:20251124T103000
DTEND;TZID=Europe/Helsinki:20251124T140000
DTSTAMP:20260424T070537
CREATED:20251121T104823Z
LAST-MODIFIED:20251121T104823Z
UID:1446-1763980200-1763992800@www.kymenwiener.fi
SUMMARY:Maanantai  24.11
DESCRIPTION:Paistetut muikut \nJauhelihakastike & spagetti \n  \n 
URL:https://www.kymenwiener.fi/event/maanantai-24-11/
LOCATION:Kymen Wiener\, Laturinkatu 2\, Kouvola\, 45130\, Suomi
CATEGORIES:Lounas
END:VEVENT
BEGIN:VEVENT
DTSTART;TZID=Europe/Helsinki:20251125T103000
DTEND;TZID=Europe/Helsinki:20251125T140000
DTSTAMP:20260424T070537
CREATED:20251121T104953Z
LAST-MODIFIED:20251121T104953Z
UID:1448-1764066600-1764079200@www.kymenwiener.fi
SUMMARY:Tiistai 25.11
DESCRIPTION:Makkara-juustopihvit \nPustanlihapata ( possua\,sipulia ja paprikaa) \n 
URL:https://www.kymenwiener.fi/event/tiistai-25-11/
LOCATION:Kymen Wiener\, Laturinkatu 2\, Kouvola\, 45130\, Suomi
CATEGORIES:Lounas
END:VEVENT
BEGIN:VEVENT
DTSTART;TZID=Europe/Helsinki:20251126T103000
DTEND;TZID=Europe/Helsinki:20251126T140000
DTSTAMP:20260424T070537
CREATED:20251121T105123Z
LAST-MODIFIED:20251121T105123Z
UID:1450-1764153000-1764165600@www.kymenwiener.fi
SUMMARY:Keskiviikko  26.11
DESCRIPTION:Maksaa\, pekonia ja sipulia kermassa \nJauhelihamureke ( oma tekemä) \n  \n 
URL:https://www.kymenwiener.fi/event/keskiviikko-26-11/
LOCATION:Kymen Wiener\, Laturinkatu 2\, Kouvola\, 45130\, Suomi
CATEGORIES:Lounas
END:VEVENT
BEGIN:VEVENT
DTSTART;TZID=Europe/Helsinki:20251127T103000
DTEND;TZID=Europe/Helsinki:20251127T140000
DTSTAMP:20260424T070537
CREATED:20251121T105250Z
LAST-MODIFIED:20251121T105250Z
UID:1452-1764239400-1764252000@www.kymenwiener.fi
SUMMARY:Torstai  27.11
DESCRIPTION:Broileria currykermassa \nPalvilihan juustojalapenomakkaraa \n 
URL:https://www.kymenwiener.fi/event/torstai-27-11/
LOCATION:Kymen Wiener\, Laturinkatu 2\, Kouvola\, 45130\, Suomi
CATEGORIES:Lounas
END:VEVENT
BEGIN:VEVENT
DTSTART;TZID=Europe/Helsinki:20251128T103000
DTEND;TZID=Europe/Helsinki:20251128T140000
DTSTAMP:20260424T070537
CREATED:20251121T105427Z
LAST-MODIFIED:20251121T105427Z
UID:1454-1764325800-1764338400@www.kymenwiener.fi
SUMMARY:Perjantai  28.11
DESCRIPTION:Paistettua yrttikalaa \nKebabpastaa
URL:https://www.kymenwiener.fi/event/perjantai-28-11/
LOCATION:Kymen Wiener\, Laturinkatu 2\, Kouvola\, 45130\, Suomi
CATEGORIES:Lounas
END:VEVENT
BEGIN:VEVENT
DTSTART;TZID=Europe/Helsinki:20251201T103000
DTEND;TZID=Europe/Helsinki:20251201T140000
DTSTAMP:20260424T070537
CREATED:20251128T111026Z
LAST-MODIFIED:20251128T111026Z
UID:1457-1764585000-1764597600@www.kymenwiener.fi
SUMMARY:Maanantai  1.12
DESCRIPTION:Chilijuustomakkara munakas \nKaalikääryleet \n  \n 
URL:https://www.kymenwiener.fi/event/maanantai-1-12/
LOCATION:Kymen Wiener\, Laturinkatu 2\, Kouvola\, 45130\, Suomi
CATEGORIES:Lounas
END:VEVENT
BEGIN:VEVENT
DTSTART;TZID=Europe/Helsinki:20251202T103000
DTEND;TZID=Europe/Helsinki:20251202T140000
DTSTAMP:20260424T070537
CREATED:20251128T111144Z
LAST-MODIFIED:20251128T111144Z
UID:1459-1764671400-1764684000@www.kymenwiener.fi
SUMMARY:Tiistai 2.12
DESCRIPTION:Paistettua puna-ahventa \nMaissibroileria \n 
URL:https://www.kymenwiener.fi/event/tiistai-2-12/
LOCATION:Kymen Wiener\, Laturinkatu 2\, Kouvola\, 45130\, Suomi
CATEGORIES:Lounas
END:VEVENT
BEGIN:VEVENT
DTSTART;TZID=Europe/Helsinki:20251203T103000
DTEND;TZID=Europe/Helsinki:20251203T140000
DTSTAMP:20260424T070537
CREATED:20251128T111253Z
LAST-MODIFIED:20251128T111253Z
UID:1461-1764757800-1764770400@www.kymenwiener.fi
SUMMARY:Keskiviikko  3.12
DESCRIPTION:Makkarastroganof \nHedelmäistä kasleria \n  \n 
URL:https://www.kymenwiener.fi/event/keskiviikko-3-12/
LOCATION:Kymen Wiener\, Laturinkatu 2\, Kouvola\, 45130\, Suomi
CATEGORIES:Lounas
END:VEVENT
BEGIN:VEVENT
DTSTART;TZID=Europe/Helsinki:20251204T103000
DTEND;TZID=Europe/Helsinki:20251204T140000
DTSTAMP:20260424T070537
CREATED:20251128T111416Z
LAST-MODIFIED:20251128T111416Z
UID:1463-1764844200-1764856800@www.kymenwiener.fi
SUMMARY:Torstai 4.12
DESCRIPTION:Janssoninkiusau \nLihapyörykät ( oma tekemät ) \n 
URL:https://www.kymenwiener.fi/event/torstai-4-12/
LOCATION:Kymen Wiener\, Laturinkatu 2\, Kouvola\, 45130\, Suomi
CATEGORIES:Lounas
END:VEVENT
BEGIN:VEVENT
DTSTART;TZID=Europe/Helsinki:20251205T103000
DTEND;TZID=Europe/Helsinki:20251205T140000
DTSTAMP:20260424T070537
CREATED:20251128T111522Z
LAST-MODIFIED:20251128T111522Z
UID:1465-1764930600-1764943200@www.kymenwiener.fi
SUMMARY:Perjantai  5.12
DESCRIPTION:Kalkkunan gordon blue pihvi \nMaksa-porkkanapata
URL:https://www.kymenwiener.fi/event/perjantai-5-12/
LOCATION:Kymen Wiener\, Laturinkatu 2\, Kouvola\, 45130\, Suomi
CATEGORIES:Lounas
END:VEVENT
BEGIN:VEVENT
DTSTART;TZID=Europe/Helsinki:20251208T103000
DTEND;TZID=Europe/Helsinki:20251208T140000
DTSTAMP:20260424T070537
CREATED:20251205T123147Z
LAST-MODIFIED:20251205T123147Z
UID:1468-1765189800-1765202400@www.kymenwiener.fi
SUMMARY:Maanantai  8.12
DESCRIPTION:Rantakalaa \nJauhelihaperunasoselaatikko \n  \n 
URL:https://www.kymenwiener.fi/event/maanantai-8-12/
LOCATION:Kymen Wiener\, Laturinkatu 2\, Kouvola\, 45130\, Suomi
CATEGORIES:Lounas
END:VEVENT
BEGIN:VEVENT
DTSTART;TZID=Europe/Helsinki:20251209T103000
DTEND;TZID=Europe/Helsinki:20251209T140000
DTSTAMP:20260424T070537
CREATED:20251205T123324Z
LAST-MODIFIED:20251205T123324Z
UID:1470-1765276200-1765288800@www.kymenwiener.fi
SUMMARY:Tiistai 9.12
DESCRIPTION:Maksaa\, pekonia ja sipulia kermassa \nPalvilihan makkara \nPossupata \n 
URL:https://www.kymenwiener.fi/event/tiistai-9-12/
LOCATION:Kymen Wiener\, Laturinkatu 2\, Kouvola\, 45130\, Suomi
CATEGORIES:Lounas
END:VEVENT
BEGIN:VEVENT
DTSTART;TZID=Europe/Helsinki:20251210T103000
DTEND;TZID=Europe/Helsinki:20251210T140000
DTSTAMP:20260424T070537
CREATED:20251205T124016Z
LAST-MODIFIED:20251205T124016Z
UID:1472-1765362600-1765375200@www.kymenwiener.fi
SUMMARY:Keskiviikko  10.12
DESCRIPTION:Jouluruoka \nKinkkua\,porkkana ja lanttulaatikkoa\, imelletty perunalaatikko\,graavilohi\,silli ja sipuli\, sienisalaattia\, rosollia ja vihreä salaatti. \n  \n  \n  \n  \n 
URL:https://www.kymenwiener.fi/event/keskiviikko-10-12/
LOCATION:Kymen Wiener\, Laturinkatu 2\, Kouvola\, 45130\, Suomi
CATEGORIES:Lounas
END:VEVENT
BEGIN:VEVENT
DTSTART;TZID=Europe/Helsinki:20251211T103000
DTEND;TZID=Europe/Helsinki:20251211T140000
DTSTAMP:20260424T070537
CREATED:20251205T124200Z
LAST-MODIFIED:20251205T124200Z
UID:1474-1765449000-1765461600@www.kymenwiener.fi
SUMMARY:Torstai 11.12
DESCRIPTION:Lohimurekepihvit \nMausteinen broileripata \n 
URL:https://www.kymenwiener.fi/event/torstai-11-12/
LOCATION:Kymen Wiener\, Laturinkatu 2\, Kouvola\, 45130\, Suomi
CATEGORIES:Lounas
END:VEVENT
END:VCALENDAR