BEGIN:VCALENDAR
VERSION:2.0
PRODID:-//kymenwiener.fi - ECPv6.15.20//NONSGML v1.0//EN
CALSCALE:GREGORIAN
METHOD:PUBLISH
X-WR-CALNAME:kymenwiener.fi
X-ORIGINAL-URL:https://www.kymenwiener.fi
X-WR-CALDESC:Tapahtumat kymenwiener.fi
REFRESH-INTERVAL;VALUE=DURATION:PT1H
X-Robots-Tag:noindex
X-PUBLISHED-TTL:PT1H
BEGIN:VTIMEZONE
TZID:Europe/Helsinki
BEGIN:DAYLIGHT
TZOFFSETFROM:+0200
TZOFFSETTO:+0300
TZNAME:EEST
DTSTART:20250330T010000
END:DAYLIGHT
BEGIN:STANDARD
TZOFFSETFROM:+0300
TZOFFSETTO:+0200
TZNAME:EET
DTSTART:20251026T010000
END:STANDARD
BEGIN:DAYLIGHT
TZOFFSETFROM:+0200
TZOFFSETTO:+0300
TZNAME:EEST
DTSTART:20260329T010000
END:DAYLIGHT
BEGIN:STANDARD
TZOFFSETFROM:+0300
TZOFFSETTO:+0200
TZNAME:EET
DTSTART:20261025T010000
END:STANDARD
BEGIN:DAYLIGHT
TZOFFSETFROM:+0200
TZOFFSETTO:+0300
TZNAME:EEST
DTSTART:20270328T010000
END:DAYLIGHT
BEGIN:STANDARD
TZOFFSETFROM:+0300
TZOFFSETTO:+0200
TZNAME:EET
DTSTART:20271031T010000
END:STANDARD
END:VTIMEZONE
BEGIN:VEVENT
DTSTART;TZID=Europe/Helsinki:20260115T103000
DTEND;TZID=Europe/Helsinki:20260115T140000
DTSTAMP:20260424T040704
CREATED:20260109T124740Z
LAST-MODIFIED:20260109T124740Z
UID:1527-1768473000-1768485600@www.kymenwiener.fi
SUMMARY:Torstai 15.1
DESCRIPTION:Nakki-perunavuoka \nLihapullat ( oma tekemät) \n  \n 
URL:https://www.kymenwiener.fi/event/torstai-15-1/
LOCATION:Kymen Wiener\, Laturinkatu 2\, Kouvola\, 45130\, Suomi
CATEGORIES:Lounas
END:VEVENT
BEGIN:VEVENT
DTSTART;TZID=Europe/Helsinki:20260116T103000
DTEND;TZID=Europe/Helsinki:20260116T140000
DTSTAMP:20260424T040704
CREATED:20260109T124846Z
LAST-MODIFIED:20260109T124846Z
UID:1529-1768559400-1768572000@www.kymenwiener.fi
SUMMARY:Perjantai  16.1
DESCRIPTION:Paistettuja kaloja \nKaalikääryleet \n 
URL:https://www.kymenwiener.fi/event/perjantai-16-1/
LOCATION:Kymen Wiener\, Laturinkatu 2\, Kouvola\, 45130\, Suomi
CATEGORIES:Lounas
END:VEVENT
BEGIN:VEVENT
DTSTART;TZID=Europe/Helsinki:20260119T103000
DTEND;TZID=Europe/Helsinki:20260119T140000
DTSTAMP:20260424T040704
CREATED:20260116T130927Z
LAST-MODIFIED:20260116T130927Z
UID:1532-1768818600-1768831200@www.kymenwiener.fi
SUMMARY:Maanantai  19.1.2026
DESCRIPTION:Paistetut muikut \nJauhelihamakaronilaatikko \n  \n 
URL:https://www.kymenwiener.fi/event/maanantai-19-1-2026/
LOCATION:Kymen Wiener\, Laturinkatu 2\, Kouvola\, 45130\, Suomi
CATEGORIES:Lounas
END:VEVENT
BEGIN:VEVENT
DTSTART;TZID=Europe/Helsinki:20260120T103000
DTEND;TZID=Europe/Helsinki:20260120T140000
DTSTAMP:20260424T040704
CREATED:20260116T131026Z
LAST-MODIFIED:20260116T131026Z
UID:1534-1768905000-1768917600@www.kymenwiener.fi
SUMMARY:Tiistai 20.1
DESCRIPTION:Kievin kana \nSinappimakkara \n  \n  \n 
URL:https://www.kymenwiener.fi/event/tiistai-20-1/
LOCATION:Kymen Wiener\, Laturinkatu 2\, Kouvola\, 45130\, Suomi
CATEGORIES:Lounas
END:VEVENT
BEGIN:VEVENT
DTSTART;TZID=Europe/Helsinki:20260121T103000
DTEND;TZID=Europe/Helsinki:20260121T140000
DTSTAMP:20260424T040704
CREATED:20260116T131119Z
LAST-MODIFIED:20260116T131119Z
UID:1536-1768991400-1769004000@www.kymenwiener.fi
SUMMARY:Keskiviikko  21.1
DESCRIPTION:Silakkapihvit \nKarjalanpaisti \n  \n  \n  \n  \n  \n 
URL:https://www.kymenwiener.fi/event/keskiviikko-21-1/
LOCATION:Kymen Wiener\, Laturinkatu 2\, Kouvola\, 45130\, Suomi
CATEGORIES:Lounas
END:VEVENT
BEGIN:VEVENT
DTSTART;TZID=Europe/Helsinki:20260122T103000
DTEND;TZID=Europe/Helsinki:20260122T140000
DTSTAMP:20260424T040704
CREATED:20260116T131231Z
LAST-MODIFIED:20260116T131231Z
UID:1538-1769077800-1769090400@www.kymenwiener.fi
SUMMARY:Torstai 22.1
DESCRIPTION:Jauhelihalasagne \nMaksaa-pekonia ja sipulia kermassa \n  \n 
URL:https://www.kymenwiener.fi/event/torstai-22-1/
LOCATION:Kymen Wiener\, Laturinkatu 2\, Kouvola\, 45130\, Suomi
CATEGORIES:Lounas
END:VEVENT
BEGIN:VEVENT
DTSTART;TZID=Europe/Helsinki:20260123T103000
DTEND;TZID=Europe/Helsinki:20260123T140000
DTSTAMP:20260424T040704
CREATED:20260116T131333Z
LAST-MODIFIED:20260116T131333Z
UID:1540-1769164200-1769176800@www.kymenwiener.fi
SUMMARY:Perjantai  23.1
DESCRIPTION:Mantelisei \nmakkara-juustopihvit \n 
URL:https://www.kymenwiener.fi/event/perjantai-23-1/
LOCATION:Kymen Wiener\, Laturinkatu 2\, Kouvola\, 45130\, Suomi
CATEGORIES:Lounas
END:VEVENT
BEGIN:VEVENT
DTSTART;TZID=Europe/Helsinki:20260126T103000
DTEND;TZID=Europe/Helsinki:20260126T140000
DTSTAMP:20260424T040704
CREATED:20260123T122041Z
LAST-MODIFIED:20260123T122041Z
UID:1542-1769423400-1769436000@www.kymenwiener.fi
SUMMARY:Maanantai  26.1.2026
DESCRIPTION:Makkaramunakas \nJauhelihakastike & spagetti \n  \n 
URL:https://www.kymenwiener.fi/event/maanantai-26-1-2026/
LOCATION:Kymen Wiener\, Laturinkatu 2\, Kouvola\, 45130\, Suomi
CATEGORIES:Lounas
END:VEVENT
BEGIN:VEVENT
DTSTART;TZID=Europe/Helsinki:20260127T103000
DTEND;TZID=Europe/Helsinki:20260127T140000
DTSTAMP:20260424T040704
CREATED:20260123T122159Z
LAST-MODIFIED:20260123T122159Z
UID:1544-1769509800-1769522400@www.kymenwiener.fi
SUMMARY:Tiistai 27.1
DESCRIPTION:Jauhemaksa-pekoni-kasvispihvi \nUunilenkki \n  \n  \n 
URL:https://www.kymenwiener.fi/event/tiistai-27-1/
LOCATION:Kymen Wiener\, Laturinkatu 2\, Kouvola\, 45130\, Suomi
CATEGORIES:Lounas
END:VEVENT
BEGIN:VEVENT
DTSTART;TZID=Europe/Helsinki:20260128T103000
DTEND;TZID=Europe/Helsinki:20260128T140000
DTSTAMP:20260424T040704
CREATED:20260123T122322Z
LAST-MODIFIED:20260123T122322Z
UID:1546-1769596200-1769608800@www.kymenwiener.fi
SUMMARY:Keskiviikko  28.1
DESCRIPTION:Lohi+haukimurekepihvit \nKaalilaatikko \n  \n  \n  \n  \n  \n 
URL:https://www.kymenwiener.fi/event/keskiviikko-28-1/
LOCATION:Kymen Wiener\, Laturinkatu 2\, Kouvola\, 45130\, Suomi
CATEGORIES:Lounas
END:VEVENT
BEGIN:VEVENT
DTSTART;TZID=Europe/Helsinki:20260129T103000
DTEND;TZID=Europe/Helsinki:20260129T140000
DTSTAMP:20260424T040704
CREATED:20260123T122428Z
LAST-MODIFIED:20260123T122428Z
UID:1548-1769682600-1769695200@www.kymenwiener.fi
SUMMARY:Torstai 29.1
DESCRIPTION:Broileria tomaattikermassa \nPossunleike \n  \n 
URL:https://www.kymenwiener.fi/event/torstai-29-1/
LOCATION:Kymen Wiener\, Laturinkatu 2\, Kouvola\, 45130\, Suomi
CATEGORIES:Lounas
END:VEVENT
BEGIN:VEVENT
DTSTART;TZID=Europe/Helsinki:20260130T103000
DTEND;TZID=Europe/Helsinki:20260130T140000
DTSTAMP:20260424T040704
CREATED:20260123T122527Z
LAST-MODIFIED:20260123T122527Z
UID:1550-1769769000-1769781600@www.kymenwiener.fi
SUMMARY:Perjantai  30.1
DESCRIPTION:Tonnikalapasta \nPyttipannu \n 
URL:https://www.kymenwiener.fi/event/perjantai-30-1/
LOCATION:Kymen Wiener\, Laturinkatu 2\, Kouvola\, 45130\, Suomi
CATEGORIES:Lounas
END:VEVENT
BEGIN:VEVENT
DTSTART;TZID=Europe/Helsinki:20260202T103000
DTEND;TZID=Europe/Helsinki:20260202T140000
DTSTAMP:20260424T040704
CREATED:20260130T090712Z
LAST-MODIFIED:20260130T100526Z
UID:1554-1770028200-1770040800@www.kymenwiener.fi
SUMMARY:Maanantai  2.2.2026
DESCRIPTION:Paistettu yrttikalapala \nBroileriwokki \n  \n 
URL:https://www.kymenwiener.fi/event/maanantai-2-2-2026/
LOCATION:Kymen Wiener\, Laturinkatu 2\, Kouvola\, 45130\, Suomi
CATEGORIES:Lounas
END:VEVENT
BEGIN:VEVENT
DTSTART;TZID=Europe/Helsinki:20260203T103000
DTEND;TZID=Europe/Helsinki:20260203T140000
DTSTAMP:20260424T040704
CREATED:20260130T090821Z
LAST-MODIFIED:20260130T100555Z
UID:1556-1770114600-1770127200@www.kymenwiener.fi
SUMMARY:Tiistai 3.2
DESCRIPTION:Kinkku-Aurajuustokiusaus \nMakkarapasta \n  \n  \n 
URL:https://www.kymenwiener.fi/event/tiistai-3-2/
LOCATION:Kymen Wiener\, Laturinkatu 2\, Kouvola\, 45130\, Suomi
CATEGORIES:Lounas
END:VEVENT
BEGIN:VEVENT
DTSTART;TZID=Europe/Helsinki:20260204T103000
DTEND;TZID=Europe/Helsinki:20260204T140000
DTSTAMP:20260424T040704
CREATED:20260130T091001Z
LAST-MODIFIED:20260130T100613Z
UID:1558-1770201000-1770213600@www.kymenwiener.fi
SUMMARY:Keskiviikko  4.2
DESCRIPTION:Paistettua puna-ahventa \nPossun uunikyljys ja juustoperunat \n  \n  \n  \n  \n  \n 
URL:https://www.kymenwiener.fi/event/keskiviikko-4-2/
LOCATION:Kymen Wiener\, Laturinkatu 2\, Kouvola\, 45130\, Suomi
CATEGORIES:Lounas
END:VEVENT
BEGIN:VEVENT
DTSTART;TZID=Europe/Helsinki:20260205T103000
DTEND;TZID=Europe/Helsinki:20260205T140000
DTSTAMP:20260424T040704
CREATED:20260130T091111Z
LAST-MODIFIED:20260130T100629Z
UID:1560-1770287400-1770300000@www.kymenwiener.fi
SUMMARY:Torstai 5.2
DESCRIPTION:Maksa-porkkanapata \nJauhelihapihvi ( oma tekemä) \n  \n 
URL:https://www.kymenwiener.fi/event/torstai-5-2/
LOCATION:Kymen Wiener\, Laturinkatu 2\, Kouvola\, 45130\, Suomi
CATEGORIES:Lounas
END:VEVENT
BEGIN:VEVENT
DTSTART;TZID=Europe/Helsinki:20260206T103000
DTEND;TZID=Europe/Helsinki:20260206T140000
DTSTAMP:20260424T040704
CREATED:20260130T091249Z
LAST-MODIFIED:20260130T100645Z
UID:1562-1770373800-1770386400@www.kymenwiener.fi
SUMMARY:Perjantai  6.2
DESCRIPTION:Sipsi Broileripihvi \nPaistettua Palvilihan palvimakkaraa \n 
URL:https://www.kymenwiener.fi/event/perjantai-6-2/
LOCATION:Kymen Wiener\, Laturinkatu 2\, Kouvola\, 45130\, Suomi
CATEGORIES:Lounas
END:VEVENT
BEGIN:VEVENT
DTSTART;TZID=Europe/Helsinki:20260209T103000
DTEND;TZID=Europe/Helsinki:20260209T140000
DTSTAMP:20260424T040704
CREATED:20260206T122135Z
LAST-MODIFIED:20260206T122135Z
UID:1566-1770633000-1770645600@www.kymenwiener.fi
SUMMARY:Maanantai  9.2.2026
DESCRIPTION:Nakkikastike \nJauhelihaperunasoselaatikko \n  \n 
URL:https://www.kymenwiener.fi/event/maanantai-9-2-2026/
LOCATION:Kymen Wiener\, Laturinkatu 2\, Kouvola\, 45130\, Suomi
CATEGORIES:Lounas
END:VEVENT
BEGIN:VEVENT
DTSTART;TZID=Europe/Helsinki:20260210T103000
DTEND;TZID=Europe/Helsinki:20260210T140000
DTSTAMP:20260424T040704
CREATED:20260206T122209Z
LAST-MODIFIED:20260206T122209Z
UID:1571-1770719400-1770732000@www.kymenwiener.fi
SUMMARY:Tiistai 10.2
DESCRIPTION:Paistetut muikut \nHedelmäinen kasslerpihvi \n  \n  \n 
URL:https://www.kymenwiener.fi/event/tiistai-10-2/
LOCATION:Kymen Wiener\, Laturinkatu 2\, Kouvola\, 45130\, Suomi
CATEGORIES:Lounas
END:VEVENT
BEGIN:VEVENT
DTSTART;TZID=Europe/Helsinki:20260211T103000
DTEND;TZID=Europe/Helsinki:20260211T140000
DTSTAMP:20260424T040704
CREATED:20260206T122300Z
LAST-MODIFIED:20260206T122525Z
UID:1572-1770805800-1770818400@www.kymenwiener.fi
SUMMARY:Keskiviikko  11.2
DESCRIPTION:Maksaa-currykermassa \nLihapullat ( oma tekemät ) \n  \n  \n 
URL:https://www.kymenwiener.fi/event/keskiviikko-11-2/
LOCATION:Kymen Wiener\, Laturinkatu 2\, Kouvola\, 45130\, Suomi
CATEGORIES:Lounas
END:VEVENT
BEGIN:VEVENT
DTSTART;TZID=Europe/Helsinki:20260212T103000
DTEND;TZID=Europe/Helsinki:20260212T140000
DTSTAMP:20260424T040704
CREATED:20260206T122349Z
LAST-MODIFIED:20260206T122349Z
UID:1573-1770892200-1770904800@www.kymenwiener.fi
SUMMARY:Torstai 12.2
DESCRIPTION:Bearnaise täytteinen kampela \nPossu-makkarapata ja läskisoossi \n  \n 
URL:https://www.kymenwiener.fi/event/torstai-12-2/
LOCATION:Kymen Wiener\, Laturinkatu 2\, Kouvola\, 45130\, Suomi
CATEGORIES:Lounas
END:VEVENT
BEGIN:VEVENT
DTSTART;TZID=Europe/Helsinki:20260213T103000
DTEND;TZID=Europe/Helsinki:20260213T140000
DTSTAMP:20260424T040704
CREATED:20260206T122426Z
LAST-MODIFIED:20260206T122426Z
UID:1574-1770978600-1770991200@www.kymenwiener.fi
SUMMARY:Perjantai  13.2
DESCRIPTION:Mausteinen broileripata \nMakkaramunakas \n 
URL:https://www.kymenwiener.fi/event/perjantai-13-2/
LOCATION:Kymen Wiener\, Laturinkatu 2\, Kouvola\, 45130\, Suomi
CATEGORIES:Lounas
END:VEVENT
BEGIN:VEVENT
DTSTART;TZID=Europe/Helsinki:20260216T103000
DTEND;TZID=Europe/Helsinki:20260216T140000
DTSTAMP:20260424T040704
CREATED:20260213T111044Z
LAST-MODIFIED:20260213T111044Z
UID:1581-1771237800-1771250400@www.kymenwiener.fi
SUMMARY:Maanantai  16.2.2026
DESCRIPTION:Paistettua  valkosipulikalaa \nKievinkanaa \n  \n 
URL:https://www.kymenwiener.fi/event/maanantai-16-2-2026/
LOCATION:Kymen Wiener\, Laturinkatu 2\, Kouvola\, 45130\, Suomi
CATEGORIES:Lounas
END:VEVENT
BEGIN:VEVENT
DTSTART;TZID=Europe/Helsinki:20260217T103000
DTEND;TZID=Europe/Helsinki:20260217T140000
DTSTAMP:20260424T040704
CREATED:20260213T111154Z
LAST-MODIFIED:20260213T111154Z
UID:1583-1771324200-1771336800@www.kymenwiener.fi
SUMMARY:Tiistai 17.2
DESCRIPTION:Sinappimakkaraa \nJauhelihakastike \n  \n  \n 
URL:https://www.kymenwiener.fi/event/tiistai-17-2/
LOCATION:Kymen Wiener\, Laturinkatu 2\, Kouvola\, 45130\, Suomi
CATEGORIES:Lounas
END:VEVENT
BEGIN:VEVENT
DTSTART;TZID=Europe/Helsinki:20260218T103000
DTEND;TZID=Europe/Helsinki:20260218T140000
DTSTAMP:20260424T040704
CREATED:20260213T111315Z
LAST-MODIFIED:20260213T111315Z
UID:1585-1771410600-1771423200@www.kymenwiener.fi
SUMMARY:Keskiviikko  18.2
DESCRIPTION:Smetanasei \nPossunleike & metsäsienikastike \n  \n  \n 
URL:https://www.kymenwiener.fi/event/keskiviikko-18-2/
LOCATION:Kymen Wiener\, Laturinkatu 2\, Kouvola\, 45130\, Suomi
CATEGORIES:Lounas
END:VEVENT
BEGIN:VEVENT
DTSTART;TZID=Europe/Helsinki:20260219T103000
DTEND;TZID=Europe/Helsinki:20260219T140000
DTSTAMP:20260424T040704
CREATED:20260213T111433Z
LAST-MODIFIED:20260213T111433Z
UID:1587-1771497000-1771509600@www.kymenwiener.fi
SUMMARY:Torstai 19.2
DESCRIPTION:Broileripsta \nJauhelihamureke ( oma tekemä) \n  \n 
URL:https://www.kymenwiener.fi/event/torstai-19-2/
LOCATION:Kymen Wiener\, Laturinkatu 2\, Kouvola\, 45130\, Suomi
CATEGORIES:Lounas
END:VEVENT
BEGIN:VEVENT
DTSTART;TZID=Europe/Helsinki:20260220T103000
DTEND;TZID=Europe/Helsinki:20260220T140000
DTSTAMP:20260424T040704
CREATED:20260213T111551Z
LAST-MODIFIED:20260213T111551Z
UID:1589-1771583400-1771596000@www.kymenwiener.fi
SUMMARY:Perjantai  20.2
DESCRIPTION:Makkara-perunavuoka \nJauhemaksa-juurespihvit \n 
URL:https://www.kymenwiener.fi/event/perjantai-20-2/
LOCATION:Kymen Wiener\, Laturinkatu 2\, Kouvola\, 45130\, Suomi
CATEGORIES:Lounas
END:VEVENT
BEGIN:VEVENT
DTSTART;TZID=Europe/Helsinki:20260223T103000
DTEND;TZID=Europe/Helsinki:20260223T140000
DTSTAMP:20260424T040704
CREATED:20260220T114043Z
LAST-MODIFIED:20260220T114043Z
UID:1592-1771842600-1771855200@www.kymenwiener.fi
SUMMARY:Maanantai  23.2.2026
DESCRIPTION:Broilerimunakas \nJauhelihamakaronilaatikko \n  \n 
URL:https://www.kymenwiener.fi/event/maanantai-23-2-2026/
LOCATION:Kymen Wiener\, Laturinkatu 2\, Kouvola\, 45130\, Suomi
CATEGORIES:Lounas
END:VEVENT
BEGIN:VEVENT
DTSTART;TZID=Europe/Helsinki:20260224T103000
DTEND;TZID=Europe/Helsinki:20260224T140000
DTSTAMP:20260424T040704
CREATED:20260220T114209Z
LAST-MODIFIED:20260220T114209Z
UID:1594-1771929000-1771941600@www.kymenwiener.fi
SUMMARY:Tiistai 24.2
DESCRIPTION:Silakkapihvit \nPippuripossunfile & juustoperunat \n  \n  \n 
URL:https://www.kymenwiener.fi/event/tiistai-24-2/
LOCATION:Kymen Wiener\, Laturinkatu 2\, Kouvola\, 45130\, Suomi
CATEGORIES:Lounas
END:VEVENT
BEGIN:VEVENT
DTSTART;TZID=Europe/Helsinki:20260225T103000
DTEND;TZID=Europe/Helsinki:20260225T140000
DTSTAMP:20260424T040704
CREATED:20260220T114318Z
LAST-MODIFIED:20260220T114318Z
UID:1596-1772015400-1772028000@www.kymenwiener.fi
SUMMARY:Keskiviikko  25.2
DESCRIPTION:Makkara-juustopihvit \nJauhelihalasagne \n  \n  \n 
URL:https://www.kymenwiener.fi/event/keskiviikko-25-2/
LOCATION:Kymen Wiener\, Laturinkatu 2\, Kouvola\, 45130\, Suomi
CATEGORIES:Lounas
END:VEVENT
END:VCALENDAR