BEGIN:VCALENDAR
VERSION:2.0
PRODID:-//kymenwiener.fi - ECPv6.15.20//NONSGML v1.0//EN
CALSCALE:GREGORIAN
METHOD:PUBLISH
X-ORIGINAL-URL:https://www.kymenwiener.fi
X-WR-CALDESC:Tapahtumat kymenwiener.fi
REFRESH-INTERVAL;VALUE=DURATION:PT1H
X-Robots-Tag:noindex
X-PUBLISHED-TTL:PT1H
BEGIN:VTIMEZONE
TZID:Europe/Helsinki
BEGIN:DAYLIGHT
TZOFFSETFROM:+0200
TZOFFSETTO:+0300
TZNAME:EEST
DTSTART:20250330T010000
END:DAYLIGHT
BEGIN:STANDARD
TZOFFSETFROM:+0300
TZOFFSETTO:+0200
TZNAME:EET
DTSTART:20251026T010000
END:STANDARD
BEGIN:DAYLIGHT
TZOFFSETFROM:+0200
TZOFFSETTO:+0300
TZNAME:EEST
DTSTART:20260329T010000
END:DAYLIGHT
BEGIN:STANDARD
TZOFFSETFROM:+0300
TZOFFSETTO:+0200
TZNAME:EET
DTSTART:20261025T010000
END:STANDARD
BEGIN:DAYLIGHT
TZOFFSETFROM:+0200
TZOFFSETTO:+0300
TZNAME:EEST
DTSTART:20270328T010000
END:DAYLIGHT
BEGIN:STANDARD
TZOFFSETFROM:+0300
TZOFFSETTO:+0200
TZNAME:EET
DTSTART:20271031T010000
END:STANDARD
END:VTIMEZONE
BEGIN:VEVENT
DTSTART;TZID=Europe/Helsinki:20260413T103000
DTEND;TZID=Europe/Helsinki:20260413T140000
DTSTAMP:20260423T233334
CREATED:20260410T094020Z
LAST-MODIFIED:20260410T094020Z
UID:1667-1776076200-1776088800@www.kymenwiener.fi
SUMMARY:Maanantai  13.4.2026
DESCRIPTION:Smetanaseitä \nMakkaramunakas \n  \n  \n  \n  \n  \n  \n 
URL:https://www.kymenwiener.fi/event/maanantai-13-4-2026/
LOCATION:Kymen Wiener\, Laturinkatu 2\, Kouvola\, 45130\, Suomi
CATEGORIES:Lounas
END:VEVENT
BEGIN:VEVENT
DTSTART;TZID=Europe/Helsinki:20260414T103000
DTEND;TZID=Europe/Helsinki:20260414T140000
DTSTAMP:20260423T233334
CREATED:20260410T094148Z
LAST-MODIFIED:20260410T094148Z
UID:1669-1776162600-1776175200@www.kymenwiener.fi
SUMMARY:Tiistai 14.4
DESCRIPTION:Broileriwokki \nMaksaa\, pekonia ja sipulia kermassa \n  \n  \n 
URL:https://www.kymenwiener.fi/event/tiistai-14-4/
LOCATION:Kymen Wiener\, Laturinkatu 2\, Kouvola\, 45130\, Suomi
CATEGORIES:Lounas
END:VEVENT
BEGIN:VEVENT
DTSTART;TZID=Europe/Helsinki:20260415T103000
DTEND;TZID=Europe/Helsinki:20260415T140000
DTSTAMP:20260423T233334
CREATED:20260410T094318Z
LAST-MODIFIED:20260410T094318Z
UID:1671-1776249000-1776261600@www.kymenwiener.fi
SUMMARY:Keskiviikko  15.4
DESCRIPTION:Kalapuikot ja tilli-munakastike \nLihamureke \n  \n  \n  \n 
URL:https://www.kymenwiener.fi/event/keskiviikko-15-4/
LOCATION:Kymen Wiener\, Laturinkatu 2\, Kouvola\, 45130\, Suomi
CATEGORIES:Lounas
END:VEVENT
BEGIN:VEVENT
DTSTART;TZID=Europe/Helsinki:20260416T103000
DTEND;TZID=Europe/Helsinki:20260416T140000
DTSTAMP:20260423T233334
CREATED:20260410T094425Z
LAST-MODIFIED:20260410T094425Z
UID:1673-1776335400-1776348000@www.kymenwiener.fi
SUMMARY:Torstai 16.4
DESCRIPTION:Paistettua palvilihan makkaraa \nPossun kasleria pippurikastikkeessa \n  \n 
URL:https://www.kymenwiener.fi/event/torstai-16-4/
LOCATION:Kymen Wiener\, Laturinkatu 2\, Kouvola\, 45130\, Suomi
CATEGORIES:Lounas
END:VEVENT
BEGIN:VEVENT
DTSTART;TZID=Europe/Helsinki:20260417T103000
DTEND;TZID=Europe/Helsinki:20260417T140000
DTSTAMP:20260423T233334
CREATED:20260410T094520Z
LAST-MODIFIED:20260410T094520Z
UID:1675-1776421800-1776434400@www.kymenwiener.fi
SUMMARY:Perjantai  17.4
DESCRIPTION:Kinkku-aurajuustopastaa \nPaisteeua broileria \n  \n 
URL:https://www.kymenwiener.fi/event/perjantai-17-4/
LOCATION:Kymen Wiener\, Laturinkatu 2\, Kouvola\, 45130\, Suomi
CATEGORIES:Lounas
END:VEVENT
BEGIN:VEVENT
DTSTART;TZID=Europe/Helsinki:20260420T103000
DTEND;TZID=Europe/Helsinki:20260420T140000
DTSTAMP:20260423T233334
CREATED:20260417T094833Z
LAST-MODIFIED:20260417T094833Z
UID:1677-1776681000-1776693600@www.kymenwiener.fi
SUMMARY:Maanantai  20.4.2026
DESCRIPTION:Makkara-juustopihvit \nJauhelihakastike ja spagetti \n  \n  \n  \n  \n  \n  \n 
URL:https://www.kymenwiener.fi/event/maanantai-20-4-2026/
LOCATION:Kymen Wiener\, Laturinkatu 2\, Kouvola\, 45130\, Suomi
CATEGORIES:Lounas
END:VEVENT
BEGIN:VEVENT
DTSTART;TZID=Europe/Helsinki:20260421T103000
DTEND;TZID=Europe/Helsinki:20260421T140000
DTSTAMP:20260423T233334
CREATED:20260417T095002Z
LAST-MODIFIED:20260417T095002Z
UID:1679-1776767400-1776780000@www.kymenwiener.fi
SUMMARY:Tiistai 21.4
DESCRIPTION:Paistettua puna-ahventa/kampelaa \nPossunfile ja juustoperunat \n  \n  \n 
URL:https://www.kymenwiener.fi/event/tiistai-21-4/
LOCATION:Kymen Wiener\, Laturinkatu 2\, Kouvola\, 45130\, Suomi
CATEGORIES:Lounas
END:VEVENT
BEGIN:VEVENT
DTSTART;TZID=Europe/Helsinki:20260422T103000
DTEND;TZID=Europe/Helsinki:20260422T140000
DTSTAMP:20260423T233334
CREATED:20260417T095127Z
LAST-MODIFIED:20260417T095127Z
UID:1681-1776853800-1776866400@www.kymenwiener.fi
SUMMARY:Keskiviikko  22.4
DESCRIPTION:Sipsibroileria \nKaalilaatikkoa \n  \n  \n  \n 
URL:https://www.kymenwiener.fi/event/keskiviikko-22-4/
LOCATION:Kymen Wiener\, Laturinkatu 2\, Kouvola\, 45130\, Suomi
CATEGORIES:Lounas
END:VEVENT
BEGIN:VEVENT
DTSTART;TZID=Europe/Helsinki:20260423T103000
DTEND;TZID=Europe/Helsinki:20260423T140000
DTSTAMP:20260423T233334
CREATED:20260417T095245Z
LAST-MODIFIED:20260417T095245Z
UID:1683-1776940200-1776952800@www.kymenwiener.fi
SUMMARY:Torstai 23.4
DESCRIPTION:Uunimakkaraa \nJauhelihapihvi ( oma tekemä) \n  \n 
URL:https://www.kymenwiener.fi/event/torstai-23-4/
LOCATION:Kymen Wiener\, Laturinkatu 2\, Kouvola\, 45130\, Suomi
CATEGORIES:Lounas
END:VEVENT
BEGIN:VEVENT
DTSTART;TZID=Europe/Helsinki:20260424T103000
DTEND;TZID=Europe/Helsinki:20260424T140000
DTSTAMP:20260423T233334
CREATED:20260417T095404Z
LAST-MODIFIED:20260417T095404Z
UID:1685-1777026600-1777039200@www.kymenwiener.fi
SUMMARY:Perjantai  24.4
DESCRIPTION:Italialainen kalavuoka \nPossu-pekonipata \n  \n 
URL:https://www.kymenwiener.fi/event/perjantai-24-4/
LOCATION:Kymen Wiener\, Laturinkatu 2\, Kouvola\, 45130\, Suomi
CATEGORIES:Lounas
END:VEVENT
END:VCALENDAR