BEGIN:VCALENDAR
VERSION:2.0
PRODID:-//kymenwiener.fi - ECPv6.15.20//NONSGML v1.0//EN
CALSCALE:GREGORIAN
METHOD:PUBLISH
X-ORIGINAL-URL:https://www.kymenwiener.fi
X-WR-CALDESC:Tapahtumat kymenwiener.fi
REFRESH-INTERVAL;VALUE=DURATION:PT1H
X-Robots-Tag:noindex
X-PUBLISHED-TTL:PT1H
BEGIN:VTIMEZONE
TZID:Europe/Helsinki
BEGIN:DAYLIGHT
TZOFFSETFROM:+0200
TZOFFSETTO:+0300
TZNAME:EEST
DTSTART:20240331T010000
END:DAYLIGHT
BEGIN:STANDARD
TZOFFSETFROM:+0300
TZOFFSETTO:+0200
TZNAME:EET
DTSTART:20241027T010000
END:STANDARD
BEGIN:DAYLIGHT
TZOFFSETFROM:+0200
TZOFFSETTO:+0300
TZNAME:EEST
DTSTART:20250330T010000
END:DAYLIGHT
BEGIN:STANDARD
TZOFFSETFROM:+0300
TZOFFSETTO:+0200
TZNAME:EET
DTSTART:20251026T010000
END:STANDARD
BEGIN:DAYLIGHT
TZOFFSETFROM:+0200
TZOFFSETTO:+0300
TZNAME:EEST
DTSTART:20260329T010000
END:DAYLIGHT
BEGIN:STANDARD
TZOFFSETFROM:+0300
TZOFFSETTO:+0200
TZNAME:EET
DTSTART:20261025T010000
END:STANDARD
END:VTIMEZONE
BEGIN:VEVENT
DTSTART;TZID=Europe/Helsinki:20251024T103000
DTEND;TZID=Europe/Helsinki:20251024T140000
DTSTAMP:20260424T185945
CREATED:20251017T103030Z
LAST-MODIFIED:20251017T103030Z
UID:1402-1761301800-1761314400@www.kymenwiener.fi
SUMMARY:Perjantai  24.10
DESCRIPTION:Pyttipannu \nOlutlihapataa
URL:https://www.kymenwiener.fi/event/perjantai-24-10/
LOCATION:Kymen Wiener\, Laturinkatu 2\, Kouvola\, 45130\, Suomi
CATEGORIES:Lounas
END:VEVENT
BEGIN:VEVENT
DTSTART;TZID=Europe/Helsinki:20251023T103000
DTEND;TZID=Europe/Helsinki:20251023T140000
DTSTAMP:20260424T185945
CREATED:20251017T102821Z
LAST-MODIFIED:20251017T102821Z
UID:1400-1761215400-1761228000@www.kymenwiener.fi
SUMMARY:Torstai  23.10
DESCRIPTION:Jamssoninkiusaus \nLihapullat ( oma tekemät ) \n 
URL:https://www.kymenwiener.fi/event/torstai-23-10/
LOCATION:Kymen Wiener\, Laturinkatu 2\, Kouvola\, 45130\, Suomi
CATEGORIES:Lounas
END:VEVENT
BEGIN:VEVENT
DTSTART;TZID=Europe/Helsinki:20251022T103000
DTEND;TZID=Europe/Helsinki:20251022T140000
DTSTAMP:20260424T185945
CREATED:20251017T102714Z
LAST-MODIFIED:20251017T102714Z
UID:1398-1761129000-1761141600@www.kymenwiener.fi
SUMMARY:Keskiviikko  22.10
DESCRIPTION:Juures-jauhemaksapihvit \nKasleria viherpippuri-kerma kastikkeessa \n  \n 
URL:https://www.kymenwiener.fi/event/keskiviikko-22-10/
LOCATION:Kymen Wiener\, Laturinkatu 2\, Kouvola\, 45130\, Suomi
CATEGORIES:Lounas
END:VEVENT
BEGIN:VEVENT
DTSTART;TZID=Europe/Helsinki:20251021T103000
DTEND;TZID=Europe/Helsinki:20251021T140000
DTSTAMP:20260424T185945
CREATED:20251017T102559Z
LAST-MODIFIED:20251017T102559Z
UID:1396-1761042600-1761055200@www.kymenwiener.fi
SUMMARY:Tiistai 21.10
DESCRIPTION:Haukimurekepihvit \nUunimakkaraa \n 
URL:https://www.kymenwiener.fi/event/tiistai-21-10/
LOCATION:Kymen Wiener\, Laturinkatu 2\, Kouvola\, 45130\, Suomi
CATEGORIES:Lounas
END:VEVENT
BEGIN:VEVENT
DTSTART;TZID=Europe/Helsinki:20251020T103000
DTEND;TZID=Europe/Helsinki:20251020T140000
DTSTAMP:20260424T185945
CREATED:20251017T102448Z
LAST-MODIFIED:20251017T102448Z
UID:1394-1760956200-1760968800@www.kymenwiener.fi
SUMMARY:Maanantai  20.10
DESCRIPTION:Broileripastaa Kreikkalaisittain \nJauhelihakastike \n  \n 
URL:https://www.kymenwiener.fi/event/maanantai-20-10/
LOCATION:Kymen Wiener\, Laturinkatu 2\, Kouvola\, 45130\, Suomi
CATEGORIES:Lounas
END:VEVENT
BEGIN:VEVENT
DTSTART;TZID=Europe/Helsinki:20251017T103000
DTEND;TZID=Europe/Helsinki:20251017T140000
DTSTAMP:20260424T185945
CREATED:20251010T104534Z
LAST-MODIFIED:20251010T104534Z
UID:1390-1760697000-1760709600@www.kymenwiener.fi
SUMMARY:Perjantai  17.10
DESCRIPTION:Kalapihvi & remuladekastike \nNakkistroganoff
URL:https://www.kymenwiener.fi/event/perjantai-17-10/
LOCATION:Kymen Wiener\, Laturinkatu 2\, Kouvola\, 45130\, Suomi
CATEGORIES:Lounas
END:VEVENT
BEGIN:VEVENT
DTSTART;TZID=Europe/Helsinki:20251016T103000
DTEND;TZID=Europe/Helsinki:20251016T140000
DTSTAMP:20260424T185945
CREATED:20251010T104417Z
LAST-MODIFIED:20251010T104417Z
UID:1388-1760610600-1760623200@www.kymenwiener.fi
SUMMARY:Torstai  16.10
DESCRIPTION:Maksaa\, pekonia ja sipulia kermassa \nLihamureke ( oma tekemä) \n 
URL:https://www.kymenwiener.fi/event/torstai-16-10/
LOCATION:Kymen Wiener\, Laturinkatu 2\, Kouvola\, 45130\, Suomi
CATEGORIES:Lounas
END:VEVENT
BEGIN:VEVENT
DTSTART;TZID=Europe/Helsinki:20251015T103000
DTEND;TZID=Europe/Helsinki:20251015T140000
DTSTAMP:20260424T185945
CREATED:20251010T104257Z
LAST-MODIFIED:20251010T104257Z
UID:1386-1760524200-1760536800@www.kymenwiener.fi
SUMMARY:Keskiviikko  15.10
DESCRIPTION:Maissibroileria \nKaalikääryleet \n  \n 
URL:https://www.kymenwiener.fi/event/keskiviikko-15-10/
LOCATION:Kymen Wiener\, Laturinkatu 2\, Kouvola\, 45130\, Suomi
CATEGORIES:Lounas
END:VEVENT
BEGIN:VEVENT
DTSTART;TZID=Europe/Helsinki:20251014T103000
DTEND;TZID=Europe/Helsinki:20251014T140000
DTSTAMP:20260424T185945
CREATED:20251010T104157Z
LAST-MODIFIED:20251010T104157Z
UID:1384-1760437800-1760450400@www.kymenwiener.fi
SUMMARY:Tiistai 14.10
DESCRIPTION:Sinappimakkaraa \nPossunfilettä ja valkosipuliperunat \n 
URL:https://www.kymenwiener.fi/event/tiistai-14-10/
LOCATION:Kymen Wiener\, Laturinkatu 2\, Kouvola\, 45130\, Suomi
CATEGORIES:Lounas
END:VEVENT
BEGIN:VEVENT
DTSTART;TZID=Europe/Helsinki:20251013T103000
DTEND;TZID=Europe/Helsinki:20251013T140000
DTSTAMP:20260424T185945
CREATED:20251010T104043Z
LAST-MODIFIED:20251010T104043Z
UID:1382-1760351400-1760364000@www.kymenwiener.fi
SUMMARY:Maanantai  13.10
DESCRIPTION:Paistettu yrttikalapala \nJuustoinen jauhelihamakaronilaatikko \n  \n 
URL:https://www.kymenwiener.fi/event/maanantai-13-10/
LOCATION:Kymen Wiener\, Laturinkatu 2\, Kouvola\, 45130\, Suomi
CATEGORIES:Lounas
END:VEVENT
BEGIN:VEVENT
DTSTART;TZID=Europe/Helsinki:20251010T103000
DTEND;TZID=Europe/Helsinki:20251010T140000
DTSTAMP:20260424T185945
CREATED:20251003T103446Z
LAST-MODIFIED:20251003T103446Z
UID:1380-1760092200-1760104800@www.kymenwiener.fi
SUMMARY:Perjantai  10.10
DESCRIPTION:Makkarapannu \nKebabkastike
URL:https://www.kymenwiener.fi/event/perjantai-10-10/
LOCATION:Kymen Wiener\, Laturinkatu 2\, Kouvola\, 45130\, Suomi
CATEGORIES:Lounas
END:VEVENT
BEGIN:VEVENT
DTSTART;TZID=Europe/Helsinki:20251009T103000
DTEND;TZID=Europe/Helsinki:20251009T140000
DTSTAMP:20260424T185945
CREATED:20251003T103329Z
LAST-MODIFIED:20251003T103329Z
UID:1378-1760005800-1760018400@www.kymenwiener.fi
SUMMARY:Torstai  9.10
DESCRIPTION:Kalaleike tomaatti+mozzarellatäyte \nUunikyljys ja juustoperunat \n 
URL:https://www.kymenwiener.fi/event/torstai-9-10/
LOCATION:Kymen Wiener\, Laturinkatu 2\, Kouvola\, 45130\, Suomi
CATEGORIES:Lounas
END:VEVENT
BEGIN:VEVENT
DTSTART;TZID=Europe/Helsinki:20251008T103000
DTEND;TZID=Europe/Helsinki:20251008T140000
DTSTAMP:20260424T185945
CREATED:20251003T103151Z
LAST-MODIFIED:20251003T103151Z
UID:1376-1759919400-1759932000@www.kymenwiener.fi
SUMMARY:Keskiviikko  8.10
DESCRIPTION:Kinkku.aurajuustokiusaus \nSipulipihvi jauhelihasta ( oma tekemä) \n  \n 
URL:https://www.kymenwiener.fi/event/keskiviikko-8-10/
LOCATION:Kymen Wiener\, Laturinkatu 2\, Kouvola\, 45130\, Suomi
CATEGORIES:Lounas
END:VEVENT
BEGIN:VEVENT
DTSTART;TZID=Europe/Helsinki:20251007T103000
DTEND;TZID=Europe/Helsinki:20251007T140000
DTSTAMP:20260424T185945
CREATED:20251003T102945Z
LAST-MODIFIED:20251003T102945Z
UID:1374-1759833000-1759845600@www.kymenwiener.fi
SUMMARY:Tiistai 7.10
DESCRIPTION:Igorin kanaa ( kananfileitä smetanassa+ruokakermassa) \nMakkara-juustopihvit \n 
URL:https://www.kymenwiener.fi/event/tiistai-7-10/
LOCATION:Kymen Wiener\, Laturinkatu 2\, Kouvola\, 45130\, Suomi
CATEGORIES:Lounas
END:VEVENT
BEGIN:VEVENT
DTSTART;TZID=Europe/Helsinki:20251006T103000
DTEND;TZID=Europe/Helsinki:20251006T140000
DTSTAMP:20260424T185945
CREATED:20251003T102758Z
LAST-MODIFIED:20251003T102758Z
UID:1372-1759746600-1759759200@www.kymenwiener.fi
SUMMARY:Maanantai  6.10
DESCRIPTION:Lohimunakas \nKarjalanpaisti \n  \n 
URL:https://www.kymenwiener.fi/event/maanantai-6-10/
LOCATION:Kymen Wiener\, Laturinkatu 2\, Kouvola\, 45130\, Suomi
CATEGORIES:Lounas
END:VEVENT
BEGIN:VEVENT
DTSTART;TZID=Europe/Helsinki:20251003T103000
DTEND;TZID=Europe/Helsinki:20251003T140000
DTSTAMP:20260424T185945
CREATED:20250926T110928Z
LAST-MODIFIED:20250926T110928Z
UID:1369-1759487400-1759500000@www.kymenwiener.fi
SUMMARY:Perjantai  3.10
DESCRIPTION:Paistetut muikut \nPasta De Salvo ( kinkkua\,metvurstia ja herkkusieniä)
URL:https://www.kymenwiener.fi/event/perjantai-3-10/
LOCATION:Kymen Wiener\, Laturinkatu 2\, Kouvola\, 45130\, Suomi
CATEGORIES:Lounas
END:VEVENT
BEGIN:VEVENT
DTSTART;TZID=Europe/Helsinki:20251002T103000
DTEND;TZID=Europe/Helsinki:20251002T140000
DTSTAMP:20260424T185945
CREATED:20250926T110748Z
LAST-MODIFIED:20250926T110748Z
UID:1367-1759401000-1759413600@www.kymenwiener.fi
SUMMARY:Torstai  2.10
DESCRIPTION:Nikkarin vuoka ( perunaa\, lenkkimakkaraa ja sipulia uunissa) \nBroileria bearnaiskastikkeessa \n 
URL:https://www.kymenwiener.fi/event/torstai-2-10/
LOCATION:Kymen Wiener\, Laturinkatu 2\, Kouvola\, 45130\, Suomi
CATEGORIES:Lounas
END:VEVENT
BEGIN:VEVENT
DTSTART;TZID=Europe/Helsinki:20251001T103000
DTEND;TZID=Europe/Helsinki:20251001T140000
DTSTAMP:20260424T185945
CREATED:20250926T110547Z
LAST-MODIFIED:20250926T110547Z
UID:1365-1759314600-1759327200@www.kymenwiener.fi
SUMMARY:Keskiviikko  1.10
DESCRIPTION:Paistettua puna-ahventa \nJauhelihalasagne \n  \n 
URL:https://www.kymenwiener.fi/event/keskiviikko-1-10/
LOCATION:Kymen Wiener\, Laturinkatu 2\, Kouvola\, 45130\, Suomi
CATEGORIES:Lounas
END:VEVENT
BEGIN:VEVENT
DTSTART;TZID=Europe/Helsinki:20250930T103000
DTEND;TZID=Europe/Helsinki:20250930T140000
DTSTAMP:20260424T185945
CREATED:20250926T110426Z
LAST-MODIFIED:20250926T110426Z
UID:1363-1759228200-1759240800@www.kymenwiener.fi
SUMMARY:Tiistai 30.9
DESCRIPTION:Aura uunibroileri \nPossunpihvi pippurikastikkeessa \n 
URL:https://www.kymenwiener.fi/event/tiistai-30-9/
LOCATION:Kymen Wiener\, Laturinkatu 2\, Kouvola\, 45130\, Suomi
CATEGORIES:Lounas
END:VEVENT
BEGIN:VEVENT
DTSTART;TZID=Europe/Helsinki:20250929T103000
DTEND;TZID=Europe/Helsinki:20250929T140000
DTSTAMP:20260424T185945
CREATED:20250926T110232Z
LAST-MODIFIED:20250926T110232Z
UID:1361-1759141800-1759154400@www.kymenwiener.fi
SUMMARY:Maanantai 29.9
DESCRIPTION:Nakkikastike \nJauhelihaperunasoselaatikko \n  \n 
URL:https://www.kymenwiener.fi/event/maanantai-29-9/
LOCATION:Kymen Wiener\, Laturinkatu 2\, Kouvola\, 45130\, Suomi
CATEGORIES:Lounas
END:VEVENT
BEGIN:VEVENT
DTSTART;TZID=Europe/Helsinki:20250926T103000
DTEND;TZID=Europe/Helsinki:20250926T140000
DTSTAMP:20260424T185945
CREATED:20250919T105836Z
LAST-MODIFIED:20250919T105836Z
UID:1359-1758882600-1758895200@www.kymenwiener.fi
SUMMARY:Perjantai  26.9
DESCRIPTION:Paistettuja kaloja \nPossupata
URL:https://www.kymenwiener.fi/event/perjantai-26-9/
LOCATION:Kymen Wiener\, Laturinkatu 2\, Kouvola\, 45130\, Suomi
CATEGORIES:Lounas
END:VEVENT
BEGIN:VEVENT
DTSTART;TZID=Europe/Helsinki:20250925T103000
DTEND;TZID=Europe/Helsinki:20250925T140000
DTSTAMP:20260424T185945
CREATED:20250919T105722Z
LAST-MODIFIED:20250919T105722Z
UID:1357-1758796200-1758808800@www.kymenwiener.fi
SUMMARY:Torstai  25.9
DESCRIPTION:Maksaa\, pekonia ja sipulia kermassa \nLihapullat ( oma tekemät) \n 
URL:https://www.kymenwiener.fi/event/torstai-25-9/
LOCATION:Kymen Wiener\, Laturinkatu 2\, Kouvola\, 45130\, Suomi
CATEGORIES:Lounas
END:VEVENT
BEGIN:VEVENT
DTSTART;TZID=Europe/Helsinki:20250924T103000
DTEND;TZID=Europe/Helsinki:20250924T140000
DTSTAMP:20260424T185945
CREATED:20250919T105554Z
LAST-MODIFIED:20250919T105554Z
UID:1355-1758709800-1758722400@www.kymenwiener.fi
SUMMARY:Keskiviikko  24.9
DESCRIPTION:Paistettua kampelaa \nSavukassleria ja juustoperunat \n  \n 
URL:https://www.kymenwiener.fi/event/keskiviikko-24-9/
LOCATION:Kymen Wiener\, Laturinkatu 2\, Kouvola\, 45130\, Suomi
CATEGORIES:Lounas
END:VEVENT
BEGIN:VEVENT
DTSTART;TZID=Europe/Helsinki:20250923T103000
DTEND;TZID=Europe/Helsinki:20250923T140000
DTSTAMP:20260424T185945
CREATED:20250919T105413Z
LAST-MODIFIED:20250919T105413Z
UID:1353-1758623400-1758636000@www.kymenwiener.fi
SUMMARY:Tiistai 23.9
DESCRIPTION:Broileripihvi \nGrillimakkara \n 
URL:https://www.kymenwiener.fi/event/tiistai-23-9/
LOCATION:Kymen Wiener\, Laturinkatu 2\, Kouvola\, 45130\, Suomi
CATEGORIES:Lounas
END:VEVENT
BEGIN:VEVENT
DTSTART;TZID=Europe/Helsinki:20250922T103000
DTEND;TZID=Europe/Helsinki:20250922T140000
DTSTAMP:20260424T185945
CREATED:20250919T105236Z
LAST-MODIFIED:20250919T105236Z
UID:1351-1758537000-1758549600@www.kymenwiener.fi
SUMMARY:Maanantai 22.9
DESCRIPTION:Makkaramunakas \nKebabkastike \n  \n 
URL:https://www.kymenwiener.fi/event/maanantai-22-9/
LOCATION:Kymen Wiener\, Laturinkatu 2\, Kouvola\, 45130\, Suomi
CATEGORIES:Lounas
END:VEVENT
BEGIN:VEVENT
DTSTART;TZID=Europe/Helsinki:20250919T103000
DTEND;TZID=Europe/Helsinki:20250919T140000
DTSTAMP:20260424T185945
CREATED:20250912T112112Z
LAST-MODIFIED:20250912T112112Z
UID:1348-1758277800-1758290400@www.kymenwiener.fi
SUMMARY:Perjantai  19.9
DESCRIPTION:Pekoninen broileripata \nPyttipannu
URL:https://www.kymenwiener.fi/event/perjantai-19-9/
LOCATION:Kymen Wiener\, Laturinkatu 2\, Kouvola\, 45130\, Suomi
CATEGORIES:Lounas
END:VEVENT
BEGIN:VEVENT
DTSTART;TZID=Europe/Helsinki:20250918T103000
DTEND;TZID=Europe/Helsinki:20250918T140000
DTSTAMP:20260424T185945
CREATED:20250912T112001Z
LAST-MODIFIED:20250912T112001Z
UID:1346-1758191400-1758204000@www.kymenwiener.fi
SUMMARY:Torstai  18.9
DESCRIPTION:Kalapihvi \nUunilenkki ja ristikkoperunat \n 
URL:https://www.kymenwiener.fi/event/torstai-18-9/
LOCATION:Kymen Wiener\, Laturinkatu 2\, Kouvola\, 45130\, Suomi
CATEGORIES:Lounas
END:VEVENT
BEGIN:VEVENT
DTSTART;TZID=Europe/Helsinki:20250917T103000
DTEND;TZID=Europe/Helsinki:20250917T140000
DTSTAMP:20260424T185945
CREATED:20250912T111835Z
LAST-MODIFIED:20250912T111835Z
UID:1344-1758105000-1758117600@www.kymenwiener.fi
SUMMARY:Keskiviikko  17.9
DESCRIPTION:Täytetty kalkkunapihvi \nLihamureke ja metsäsienikastike \n  \n 
URL:https://www.kymenwiener.fi/event/keskiviikko-17-9/
LOCATION:Kymen Wiener\, Laturinkatu 2\, Kouvola\, 45130\, Suomi
CATEGORIES:Lounas
END:VEVENT
BEGIN:VEVENT
DTSTART;TZID=Europe/Helsinki:20250916T103000
DTEND;TZID=Europe/Helsinki:20250916T140000
DTSTAMP:20260424T185945
CREATED:20250912T111709Z
LAST-MODIFIED:20250912T111709Z
UID:1342-1758018600-1758031200@www.kymenwiener.fi
SUMMARY:Tiistai 16.9
DESCRIPTION:Makkarakastike \nPippurifile ja valkosipuliperunat \n 
URL:https://www.kymenwiener.fi/event/tiistai-16-9/
LOCATION:Kymen Wiener\, Laturinkatu 2\, Kouvola\, 45130\, Suomi
CATEGORIES:Lounas
END:VEVENT
BEGIN:VEVENT
DTSTART;TZID=Europe/Helsinki:20250915T103000
DTEND;TZID=Europe/Helsinki:20250915T140000
DTSTAMP:20260424T185945
CREATED:20250912T111558Z
LAST-MODIFIED:20250912T111558Z
UID:1340-1757932200-1757944800@www.kymenwiener.fi
SUMMARY:Maanantai 15.9
DESCRIPTION:Lohimurekepihvit \nKaalilaatikko \nLäskisoosi \n 
URL:https://www.kymenwiener.fi/event/maanantai-15-9/
LOCATION:Kymen Wiener\, Laturinkatu 2\, Kouvola\, 45130\, Suomi
CATEGORIES:Lounas
END:VEVENT
END:VCALENDAR