BEGIN:VCALENDAR
VERSION:2.0
PRODID:-//kymenwiener.fi - ECPv6.15.20//NONSGML v1.0//EN
CALSCALE:GREGORIAN
METHOD:PUBLISH
X-ORIGINAL-URL:https://www.kymenwiener.fi
X-WR-CALDESC:Tapahtumat kymenwiener.fi
REFRESH-INTERVAL;VALUE=DURATION:PT1H
X-Robots-Tag:noindex
X-PUBLISHED-TTL:PT1H
BEGIN:VTIMEZONE
TZID:Europe/Helsinki
BEGIN:DAYLIGHT
TZOFFSETFROM:+0200
TZOFFSETTO:+0300
TZNAME:EEST
DTSTART:20240331T010000
END:DAYLIGHT
BEGIN:STANDARD
TZOFFSETFROM:+0300
TZOFFSETTO:+0200
TZNAME:EET
DTSTART:20241027T010000
END:STANDARD
BEGIN:DAYLIGHT
TZOFFSETFROM:+0200
TZOFFSETTO:+0300
TZNAME:EEST
DTSTART:20250330T010000
END:DAYLIGHT
BEGIN:STANDARD
TZOFFSETFROM:+0300
TZOFFSETTO:+0200
TZNAME:EET
DTSTART:20251026T010000
END:STANDARD
BEGIN:DAYLIGHT
TZOFFSETFROM:+0200
TZOFFSETTO:+0300
TZNAME:EEST
DTSTART:20260329T010000
END:DAYLIGHT
BEGIN:STANDARD
TZOFFSETFROM:+0300
TZOFFSETTO:+0200
TZNAME:EET
DTSTART:20261025T010000
END:STANDARD
END:VTIMEZONE
BEGIN:VEVENT
DTSTART;TZID=Europe/Helsinki:20250523T103000
DTEND;TZID=Europe/Helsinki:20250523T140000
DTSTAMP:20260425T133041
CREATED:20250516T064653Z
LAST-MODIFIED:20250516T064653Z
UID:1153-1747996200-1748008800@www.kymenwiener.fi
SUMMARY:Perjantai  23.5
DESCRIPTION:Jauheliha-kinkkumureke \nPaistettu broilerin reisileike
URL:https://www.kymenwiener.fi/event/perjantai-23-5/
LOCATION:Kymen Wiener\, Laturinkatu 2\, Kouvola\, 45130\, Suomi
CATEGORIES:Lounas
END:VEVENT
BEGIN:VEVENT
DTSTART;TZID=Europe/Helsinki:20250522T103000
DTEND;TZID=Europe/Helsinki:20250522T140000
DTSTAMP:20260425T133041
CREATED:20250516T064600Z
LAST-MODIFIED:20250516T064600Z
UID:1152-1747909800-1747922400@www.kymenwiener.fi
SUMMARY:Torstai  22.5
DESCRIPTION:Paistetut muikut \nKinkkukiusaus
URL:https://www.kymenwiener.fi/event/torstai-22-5/
LOCATION:Kymen Wiener\, Laturinkatu 2\, Kouvola\, 45130\, Suomi
CATEGORIES:Lounas
END:VEVENT
BEGIN:VEVENT
DTSTART;TZID=Europe/Helsinki:20250521T103000
DTEND;TZID=Europe/Helsinki:20250521T140000
DTSTAMP:20260425T133041
CREATED:20250516T064521Z
LAST-MODIFIED:20250516T064521Z
UID:1151-1747823400-1747836000@www.kymenwiener.fi
SUMMARY:Keskiviikko  21.5
DESCRIPTION:Juures-jauhemaksapihvit \nPossupata \n 
URL:https://www.kymenwiener.fi/event/keskiviikko-21-5/
LOCATION:Kymen Wiener\, Laturinkatu 2\, Kouvola\, 45130\, Suomi
CATEGORIES:Lounas
END:VEVENT
BEGIN:VEVENT
DTSTART;TZID=Europe/Helsinki:20250520T103000
DTEND;TZID=Europe/Helsinki:20250520T140000
DTSTAMP:20260425T133041
CREATED:20250516T064437Z
LAST-MODIFIED:20250516T064734Z
UID:1150-1747737000-1747749600@www.kymenwiener.fi
SUMMARY:Tiistai 20.5
DESCRIPTION:Tomaatti-mozzarella kalaleike \nJauhelihalasagne \n 
URL:https://www.kymenwiener.fi/event/tiistai-20-5/
LOCATION:Kymen Wiener\, Laturinkatu 2\, Kouvola\, 45130\, Suomi
CATEGORIES:Lounas
END:VEVENT
BEGIN:VEVENT
DTSTART;TZID=Europe/Helsinki:20250519T103000
DTEND;TZID=Europe/Helsinki:20250519T140000
DTSTAMP:20260425T133041
CREATED:20250516T064314Z
LAST-MODIFIED:20250516T064314Z
UID:1149-1747650600-1747663200@www.kymenwiener.fi
SUMMARY:Maanantai 19.5
DESCRIPTION:Nakkikastike \nKreikkalainen munakas
URL:https://www.kymenwiener.fi/event/maanantai-19-5/
LOCATION:Kymen Wiener\, Laturinkatu 2\, Kouvola\, 45130\, Suomi
CATEGORIES:Lounas
END:VEVENT
BEGIN:VEVENT
DTSTART;TZID=Europe/Helsinki:20250516T103000
DTEND;TZID=Europe/Helsinki:20250516T140000
DTSTAMP:20260425T133041
CREATED:20250509T121213Z
LAST-MODIFIED:20250509T121213Z
UID:1146-1747391400-1747404000@www.kymenwiener.fi
SUMMARY:Perjantai  16.5
DESCRIPTION:Makkara-juustopihvit \nKaalilaatikko \n 
URL:https://www.kymenwiener.fi/event/perjantai-16-5/
LOCATION:Kymen Wiener\, Laturinkatu 2\, Kouvola\, 45130\, Suomi
CATEGORIES:Lounas
END:VEVENT
BEGIN:VEVENT
DTSTART;TZID=Europe/Helsinki:20250515T103000
DTEND;TZID=Europe/Helsinki:20250515T140000
DTSTAMP:20260425T133041
CREATED:20250509T121110Z
LAST-MODIFIED:20250509T121110Z
UID:1144-1747305000-1747317600@www.kymenwiener.fi
SUMMARY:Torstai  15.5
DESCRIPTION:Juusto+yrtti täytteinen kalaleike \nKaslerpihvi \n  \n  \n  \n 
URL:https://www.kymenwiener.fi/event/torstai-15-5/
LOCATION:Kymen Wiener\, Laturinkatu 2\, Kouvola\, 45130\, Suomi
CATEGORIES:Lounas
END:VEVENT
BEGIN:VEVENT
DTSTART;TZID=Europe/Helsinki:20250514T103000
DTEND;TZID=Europe/Helsinki:20250514T140000
DTSTAMP:20260425T133041
CREATED:20250509T120950Z
LAST-MODIFIED:20250509T120950Z
UID:1142-1747218600-1747231200@www.kymenwiener.fi
SUMMARY:Keskiviikko  14.5
DESCRIPTION:Broileripata \nLihapullat ( oma tekemät) \nLäskisoossi \n  \n  \n 
URL:https://www.kymenwiener.fi/event/keskiviikko-14-5/
LOCATION:Kymen Wiener\, Laturinkatu 2\, Kouvola\, 45130\, Suomi
CATEGORIES:Lounas
END:VEVENT
BEGIN:VEVENT
DTSTART;TZID=Europe/Helsinki:20250513T103000
DTEND;TZID=Europe/Helsinki:20250513T140000
DTSTAMP:20260425T133041
CREATED:20250509T120821Z
LAST-MODIFIED:20250509T120821Z
UID:1140-1747132200-1747144800@www.kymenwiener.fi
SUMMARY:Tiistai 13.5
DESCRIPTION:Maksaa\,pekonia\,sipulia kermassa \nKinkkupasta \n  \n  \n  \n  \n 
URL:https://www.kymenwiener.fi/event/tiistai-13-5/
LOCATION:Kymen Wiener\, Laturinkatu 2\, Kouvola\, 45130\, Suomi
CATEGORIES:Lounas
END:VEVENT
BEGIN:VEVENT
DTSTART;TZID=Europe/Helsinki:20250512T103000
DTEND;TZID=Europe/Helsinki:20250512T140000
DTSTAMP:20260425T133041
CREATED:20250509T120655Z
LAST-MODIFIED:20250509T120655Z
UID:1138-1747045800-1747058400@www.kymenwiener.fi
SUMMARY:Maanantai 12.5
DESCRIPTION:Paistettua japanin hietakampelaa \nMerimiespihvi
URL:https://www.kymenwiener.fi/event/maanantai-12-5/
LOCATION:Kymen Wiener\, Laturinkatu 2\, Kouvola\, 45130\, Suomi
CATEGORIES:Lounas
END:VEVENT
BEGIN:VEVENT
DTSTART;TZID=Europe/Helsinki:20250509T103000
DTEND;TZID=Europe/Helsinki:20250509T140000
DTSTAMP:20260425T133041
CREATED:20250502T135017Z
LAST-MODIFIED:20250502T135017Z
UID:1136-1746786600-1746799200@www.kymenwiener.fi
SUMMARY:Perjantai  9.5
DESCRIPTION:Broileripata tomaattikermassa \nJauhelihamunakas \n 
URL:https://www.kymenwiener.fi/event/perjantai-9-5/
LOCATION:Kymen Wiener\, Laturinkatu 2\, Kouvola\, 45130\, Suomi
CATEGORIES:Lounas
END:VEVENT
BEGIN:VEVENT
DTSTART;TZID=Europe/Helsinki:20250508T103000
DTEND;TZID=Europe/Helsinki:20250508T140000
DTSTAMP:20260425T133041
CREATED:20250502T134404Z
LAST-MODIFIED:20250502T134404Z
UID:1134-1746700200-1746712800@www.kymenwiener.fi
SUMMARY:Torstai  8.5
DESCRIPTION:Juustoinen janssoninkiusaus \nPossua pippurikastikkeessa \n  \n  \n  \n 
URL:https://www.kymenwiener.fi/event/torstai-8-5/
LOCATION:Kymen Wiener\, Laturinkatu 2\, Kouvola\, 45130\, Suomi
CATEGORIES:Lounas
END:VEVENT
BEGIN:VEVENT
DTSTART;TZID=Europe/Helsinki:20250507T103000
DTEND;TZID=Europe/Helsinki:20250507T140000
DTSTAMP:20260425T133041
CREATED:20250502T134300Z
LAST-MODIFIED:20250502T134300Z
UID:1132-1746613800-1746626400@www.kymenwiener.fi
SUMMARY:Keskiviikko  7.5
DESCRIPTION:Lohimurekepihvit \nMakkaraa ja ristikkoperunat \n  \n  \n 
URL:https://www.kymenwiener.fi/event/keskiviikko-7-5/
LOCATION:Kymen Wiener\, Laturinkatu 2\, Kouvola\, 45130\, Suomi
CATEGORIES:Lounas
END:VEVENT
BEGIN:VEVENT
DTSTART;TZID=Europe/Helsinki:20250506T103000
DTEND;TZID=Europe/Helsinki:20250506T140000
DTSTAMP:20260425T133041
CREATED:20250502T134125Z
LAST-MODIFIED:20250502T134125Z
UID:1130-1746527400-1746540000@www.kymenwiener.fi
SUMMARY:Tiistai 6.5
DESCRIPTION:Broileripihvi \nJauhelihamakaronilaatikko \n  \n  \n  \n  \n 
URL:https://www.kymenwiener.fi/event/tiistai-6-5/
LOCATION:Kymen Wiener\, Laturinkatu 2\, Kouvola\, 45130\, Suomi
CATEGORIES:Lounas
END:VEVENT
BEGIN:VEVENT
DTSTART;TZID=Europe/Helsinki:20250505T103000
DTEND;TZID=Europe/Helsinki:20250505T140000
DTSTAMP:20260425T133041
CREATED:20250502T134021Z
LAST-MODIFIED:20250502T134021Z
UID:1128-1746441000-1746453600@www.kymenwiener.fi
SUMMARY:Maanantai 5.5
DESCRIPTION:Paistettua kalaa \nPossupataa
URL:https://www.kymenwiener.fi/event/maanantai-5-5/
LOCATION:Kymen Wiener\, Laturinkatu 2\, Kouvola\, 45130\, Suomi
CATEGORIES:Lounas
END:VEVENT
BEGIN:VEVENT
DTSTART;TZID=Europe/Helsinki:20250502T103000
DTEND;TZID=Europe/Helsinki:20250502T140000
DTSTAMP:20260425T133041
CREATED:20250425T114757Z
LAST-MODIFIED:20250425T114757Z
UID:1125-1746181800-1746194400@www.kymenwiener.fi
SUMMARY:Perjantai  2.5
DESCRIPTION:Makkarapannu \nJauhelihastroganoff \n 
URL:https://www.kymenwiener.fi/event/perjantai-2-5/
LOCATION:Kymen Wiener\, Laturinkatu 2\, Kouvola\, 45130\, Suomi
CATEGORIES:Lounas
END:VEVENT
BEGIN:VEVENT
DTSTART;TZID=Europe/Helsinki:20250501T103000
DTEND;TZID=Europe/Helsinki:20250501T140000
DTSTAMP:20260425T133041
CREATED:20250425T114641Z
LAST-MODIFIED:20250425T114641Z
UID:1123-1746095400-1746108000@www.kymenwiener.fi
SUMMARY:Torstai  1.5
DESCRIPTION:HAUSKAA VAPPUA! \n  \n  \n  \n 
URL:https://www.kymenwiener.fi/event/torstai-1-5/
LOCATION:Kymen Wiener\, Laturinkatu 2\, Kouvola\, 45130\, Suomi
CATEGORIES:Lounas
END:VEVENT
BEGIN:VEVENT
DTSTART;TZID=Europe/Helsinki:20250430T103000
DTEND;TZID=Europe/Helsinki:20250430T140000
DTSTAMP:20260425T133041
CREATED:20250425T114513Z
LAST-MODIFIED:20250425T114513Z
UID:1121-1746009000-1746021600@www.kymenwiener.fi
SUMMARY:Keskiviikko  30.4
DESCRIPTION:Paistettua puna-ahventa ja muikkuja \nPalapaisti ja läskisoossi \n  \n  \n 
URL:https://www.kymenwiener.fi/event/keskiviikko-30-4/
LOCATION:Kymen Wiener\, Laturinkatu 2\, Kouvola\, 45130\, Suomi
CATEGORIES:Lounas
END:VEVENT
BEGIN:VEVENT
DTSTART;TZID=Europe/Helsinki:20250429T103000
DTEND;TZID=Europe/Helsinki:20250429T140000
DTSTAMP:20260425T133041
CREATED:20250425T114348Z
LAST-MODIFIED:20250425T114348Z
UID:1119-1745922600-1745935200@www.kymenwiener.fi
SUMMARY:Tiistai 29.4
DESCRIPTION:Maksaa currykermassa \nJauhelihapihvi & metsäsienikastike \n  \n  \n  \n  \n 
URL:https://www.kymenwiener.fi/event/tiistai-29-4/
LOCATION:Kymen Wiener\, Laturinkatu 2\, Kouvola\, 45130\, Suomi
CATEGORIES:Lounas
END:VEVENT
BEGIN:VEVENT
DTSTART;TZID=Europe/Helsinki:20250428T103000
DTEND;TZID=Europe/Helsinki:20250428T140000
DTSTAMP:20260425T133041
CREATED:20250425T114222Z
LAST-MODIFIED:20250425T114222Z
UID:1117-1745836200-1745848800@www.kymenwiener.fi
SUMMARY:Maanantai 28.4
DESCRIPTION:Kievin kana \nMakkarakastike
URL:https://www.kymenwiener.fi/event/maanantai-28-4/
LOCATION:Kymen Wiener\, Laturinkatu 2\, Kouvola\, 45130\, Suomi
CATEGORIES:Lounas
END:VEVENT
BEGIN:VEVENT
DTSTART;TZID=Europe/Helsinki:20250425T103000
DTEND;TZID=Europe/Helsinki:20250425T140000
DTSTAMP:20260425T133041
CREATED:20250417T115648Z
LAST-MODIFIED:20250417T115648Z
UID:1114-1745577000-1745589600@www.kymenwiener.fi
SUMMARY:Perjantai  25.4
DESCRIPTION:Janssoninkiusaus \nMaissibroileri \n 
URL:https://www.kymenwiener.fi/event/perjantai-25-4/
LOCATION:Kymen Wiener\, Laturinkatu 2\, Kouvola\, 45130\, Suomi
CATEGORIES:Lounas
END:VEVENT
BEGIN:VEVENT
DTSTART;TZID=Europe/Helsinki:20250424T103000
DTEND;TZID=Europe/Helsinki:20250424T140000
DTSTAMP:20260425T133041
CREATED:20250417T115522Z
LAST-MODIFIED:20250417T115522Z
UID:1112-1745490600-1745503200@www.kymenwiener.fi
SUMMARY:Torstai  24.4
DESCRIPTION:Kaalilaatikko \nUunikyljys \n  \n  \n 
URL:https://www.kymenwiener.fi/event/torstai-24-4/
LOCATION:Kymen Wiener\, Laturinkatu 2\, Kouvola\, 45130\, Suomi
CATEGORIES:Lounas
END:VEVENT
BEGIN:VEVENT
DTSTART;TZID=Europe/Helsinki:20250423T103000
DTEND;TZID=Europe/Helsinki:20250423T140000
DTSTAMP:20260425T133041
CREATED:20250417T115420Z
LAST-MODIFIED:20250417T115420Z
UID:1110-1745404200-1745416800@www.kymenwiener.fi
SUMMARY:Keskiviikko  23.4
DESCRIPTION:Bearnais täytteinen kampelafile \nUunimakkara \n  \n  \n 
URL:https://www.kymenwiener.fi/event/keskiviikko-23-4/
LOCATION:Kymen Wiener\, Laturinkatu 2\, Kouvola\, 45130\, Suomi
CATEGORIES:Lounas
END:VEVENT
BEGIN:VEVENT
DTSTART;TZID=Europe/Helsinki:20250422T103000
DTEND;TZID=Europe/Helsinki:20250422T140000
DTSTAMP:20260425T133041
CREATED:20250417T115313Z
LAST-MODIFIED:20250417T115313Z
UID:1108-1745317800-1745330400@www.kymenwiener.fi
SUMMARY:Tiistai 22.4
DESCRIPTION:Jauhelihakastike \nKinkku-pekonipasta \n  \n  \n  \n  \n 
URL:https://www.kymenwiener.fi/event/tiistai-22-4/
LOCATION:Kymen Wiener\, Laturinkatu 2\, Kouvola\, 45130\, Suomi
CATEGORIES:Lounas
END:VEVENT
BEGIN:VEVENT
DTSTART;TZID=Europe/Helsinki:20250421T103000
DTEND;TZID=Europe/Helsinki:20250421T140000
DTSTAMP:20260425T133041
CREATED:20250417T115207Z
LAST-MODIFIED:20250417T115207Z
UID:1106-1745231400-1745244000@www.kymenwiener.fi
SUMMARY:Maanantai 21.4
DESCRIPTION:2 PÄÄSIÄISPÄIVÄ \nHyvää Pääsiäistä !
URL:https://www.kymenwiener.fi/event/maanantai-21-4/
LOCATION:Kymen Wiener\, Laturinkatu 2\, Kouvola\, 45130\, Suomi
CATEGORIES:Lounas
END:VEVENT
BEGIN:VEVENT
DTSTART;TZID=Europe/Helsinki:20250418T103000
DTEND;TZID=Europe/Helsinki:20250418T140000
DTSTAMP:20260425T133041
CREATED:20250411T110155Z
LAST-MODIFIED:20250411T110155Z
UID:1104-1744972200-1744984800@www.kymenwiener.fi
SUMMARY:Perjantai  18.4
DESCRIPTION:PITKÄPERJANTAI \nSeisahdapa hetkinen ystävä hyvä\,nauti\,rentoudu ja vedä henkäys syvä. \nAnna nautinnon tulla pääsiäseen tähän\,itseäs ja kaverias halaa ja hymyile vähän. \nHyvää Pääsiäistä! \n 
URL:https://www.kymenwiener.fi/event/perjantai-18-4/
LOCATION:Kymen Wiener\, Laturinkatu 2\, Kouvola\, 45130\, Suomi
CATEGORIES:Lounas
END:VEVENT
BEGIN:VEVENT
DTSTART;TZID=Europe/Helsinki:20250417T103000
DTEND;TZID=Europe/Helsinki:20250417T140000
DTSTAMP:20260425T133041
CREATED:20250411T105712Z
LAST-MODIFIED:20250411T105712Z
UID:1102-1744885800-1744898400@www.kymenwiener.fi
SUMMARY:Torstai  17.4
DESCRIPTION:Mausteinen broileripata \nLihapullat (oma tekemät) \n  \n  \n 
URL:https://www.kymenwiener.fi/event/torstai-17-4/
LOCATION:Kymen Wiener\, Laturinkatu 2\, Kouvola\, 45130\, Suomi
CATEGORIES:Lounas
END:VEVENT
BEGIN:VEVENT
DTSTART;TZID=Europe/Helsinki:20250416T103000
DTEND;TZID=Europe/Helsinki:20250416T140000
DTSTAMP:20260425T133041
CREATED:20250411T105528Z
LAST-MODIFIED:20250411T105528Z
UID:1100-1744799400-1744812000@www.kymenwiener.fi
SUMMARY:Keskiviikko  16.4
DESCRIPTION:Paistetut muikut \nHedelmäinen kaslerpihvi \n  \n  \n 
URL:https://www.kymenwiener.fi/event/keskiviikko-16-4/
LOCATION:Kymen Wiener\, Laturinkatu 2\, Kouvola\, 45130\, Suomi
CATEGORIES:Lounas
END:VEVENT
BEGIN:VEVENT
DTSTART;TZID=Europe/Helsinki:20250415T103000
DTEND;TZID=Europe/Helsinki:20250415T140000
DTSTAMP:20260425T133041
CREATED:20250411T105404Z
LAST-MODIFIED:20250411T105404Z
UID:1098-1744713000-1744725600@www.kymenwiener.fi
SUMMARY:Tiistai 15.4
DESCRIPTION:Maksaa\,pekonia ja sipulia kermassa \nMakkara-juustopihvit \n  \n  \n  \n  \n 
URL:https://www.kymenwiener.fi/event/tiistai-15-4/
LOCATION:Kymen Wiener\, Laturinkatu 2\, Kouvola\, 45130\, Suomi
CATEGORIES:Lounas
END:VEVENT
BEGIN:VEVENT
DTSTART;TZID=Europe/Helsinki:20250414T103000
DTEND;TZID=Europe/Helsinki:20250414T140000
DTSTAMP:20260425T133041
CREATED:20250411T105246Z
LAST-MODIFIED:20250411T105246Z
UID:1096-1744626600-1744639200@www.kymenwiener.fi
SUMMARY:Maanantai 14.4
DESCRIPTION:Paistettua puna-ahventa \nJauhelihamakaronilaatikko
URL:https://www.kymenwiener.fi/event/maanantai-14-4/
LOCATION:Kymen Wiener\, Laturinkatu 2\, Kouvola\, 45130\, Suomi
CATEGORIES:Lounas
END:VEVENT
END:VCALENDAR