BEGIN:VCALENDAR
VERSION:2.0
PRODID:-//kymenwiener.fi - ECPv6.15.20//NONSGML v1.0//EN
CALSCALE:GREGORIAN
METHOD:PUBLISH
X-ORIGINAL-URL:https://www.kymenwiener.fi
X-WR-CALDESC:Tapahtumat kymenwiener.fi
REFRESH-INTERVAL;VALUE=DURATION:PT1H
X-Robots-Tag:noindex
X-PUBLISHED-TTL:PT1H
BEGIN:VTIMEZONE
TZID:Europe/Helsinki
BEGIN:DAYLIGHT
TZOFFSETFROM:+0200
TZOFFSETTO:+0300
TZNAME:EEST
DTSTART:20240331T010000
END:DAYLIGHT
BEGIN:STANDARD
TZOFFSETFROM:+0300
TZOFFSETTO:+0200
TZNAME:EET
DTSTART:20241027T010000
END:STANDARD
BEGIN:DAYLIGHT
TZOFFSETFROM:+0200
TZOFFSETTO:+0300
TZNAME:EEST
DTSTART:20250330T010000
END:DAYLIGHT
BEGIN:STANDARD
TZOFFSETFROM:+0300
TZOFFSETTO:+0200
TZNAME:EET
DTSTART:20251026T010000
END:STANDARD
BEGIN:DAYLIGHT
TZOFFSETFROM:+0200
TZOFFSETTO:+0300
TZNAME:EEST
DTSTART:20260329T010000
END:DAYLIGHT
BEGIN:STANDARD
TZOFFSETFROM:+0300
TZOFFSETTO:+0200
TZNAME:EET
DTSTART:20261025T010000
END:STANDARD
END:VTIMEZONE
BEGIN:VEVENT
DTSTART;TZID=Europe/Helsinki:20250425T103000
DTEND;TZID=Europe/Helsinki:20250425T140000
DTSTAMP:20260425T170242
CREATED:20250417T115648Z
LAST-MODIFIED:20250417T115648Z
UID:1114-1745577000-1745589600@www.kymenwiener.fi
SUMMARY:Perjantai  25.4
DESCRIPTION:Janssoninkiusaus \nMaissibroileri \n 
URL:https://www.kymenwiener.fi/event/perjantai-25-4/
LOCATION:Kymen Wiener\, Laturinkatu 2\, Kouvola\, 45130\, Suomi
CATEGORIES:Lounas
END:VEVENT
BEGIN:VEVENT
DTSTART;TZID=Europe/Helsinki:20250424T103000
DTEND;TZID=Europe/Helsinki:20250424T140000
DTSTAMP:20260425T170242
CREATED:20250417T115522Z
LAST-MODIFIED:20250417T115522Z
UID:1112-1745490600-1745503200@www.kymenwiener.fi
SUMMARY:Torstai  24.4
DESCRIPTION:Kaalilaatikko \nUunikyljys \n  \n  \n 
URL:https://www.kymenwiener.fi/event/torstai-24-4/
LOCATION:Kymen Wiener\, Laturinkatu 2\, Kouvola\, 45130\, Suomi
CATEGORIES:Lounas
END:VEVENT
BEGIN:VEVENT
DTSTART;TZID=Europe/Helsinki:20250423T103000
DTEND;TZID=Europe/Helsinki:20250423T140000
DTSTAMP:20260425T170242
CREATED:20250417T115420Z
LAST-MODIFIED:20250417T115420Z
UID:1110-1745404200-1745416800@www.kymenwiener.fi
SUMMARY:Keskiviikko  23.4
DESCRIPTION:Bearnais täytteinen kampelafile \nUunimakkara \n  \n  \n 
URL:https://www.kymenwiener.fi/event/keskiviikko-23-4/
LOCATION:Kymen Wiener\, Laturinkatu 2\, Kouvola\, 45130\, Suomi
CATEGORIES:Lounas
END:VEVENT
BEGIN:VEVENT
DTSTART;TZID=Europe/Helsinki:20250422T103000
DTEND;TZID=Europe/Helsinki:20250422T140000
DTSTAMP:20260425T170242
CREATED:20250417T115313Z
LAST-MODIFIED:20250417T115313Z
UID:1108-1745317800-1745330400@www.kymenwiener.fi
SUMMARY:Tiistai 22.4
DESCRIPTION:Jauhelihakastike \nKinkku-pekonipasta \n  \n  \n  \n  \n 
URL:https://www.kymenwiener.fi/event/tiistai-22-4/
LOCATION:Kymen Wiener\, Laturinkatu 2\, Kouvola\, 45130\, Suomi
CATEGORIES:Lounas
END:VEVENT
BEGIN:VEVENT
DTSTART;TZID=Europe/Helsinki:20250421T103000
DTEND;TZID=Europe/Helsinki:20250421T140000
DTSTAMP:20260425T170242
CREATED:20250417T115207Z
LAST-MODIFIED:20250417T115207Z
UID:1106-1745231400-1745244000@www.kymenwiener.fi
SUMMARY:Maanantai 21.4
DESCRIPTION:2 PÄÄSIÄISPÄIVÄ \nHyvää Pääsiäistä !
URL:https://www.kymenwiener.fi/event/maanantai-21-4/
LOCATION:Kymen Wiener\, Laturinkatu 2\, Kouvola\, 45130\, Suomi
CATEGORIES:Lounas
END:VEVENT
BEGIN:VEVENT
DTSTART;TZID=Europe/Helsinki:20250418T103000
DTEND;TZID=Europe/Helsinki:20250418T140000
DTSTAMP:20260425T170242
CREATED:20250411T110155Z
LAST-MODIFIED:20250411T110155Z
UID:1104-1744972200-1744984800@www.kymenwiener.fi
SUMMARY:Perjantai  18.4
DESCRIPTION:PITKÄPERJANTAI \nSeisahdapa hetkinen ystävä hyvä\,nauti\,rentoudu ja vedä henkäys syvä. \nAnna nautinnon tulla pääsiäseen tähän\,itseäs ja kaverias halaa ja hymyile vähän. \nHyvää Pääsiäistä! \n 
URL:https://www.kymenwiener.fi/event/perjantai-18-4/
LOCATION:Kymen Wiener\, Laturinkatu 2\, Kouvola\, 45130\, Suomi
CATEGORIES:Lounas
END:VEVENT
BEGIN:VEVENT
DTSTART;TZID=Europe/Helsinki:20250417T103000
DTEND;TZID=Europe/Helsinki:20250417T140000
DTSTAMP:20260425T170242
CREATED:20250411T105712Z
LAST-MODIFIED:20250411T105712Z
UID:1102-1744885800-1744898400@www.kymenwiener.fi
SUMMARY:Torstai  17.4
DESCRIPTION:Mausteinen broileripata \nLihapullat (oma tekemät) \n  \n  \n 
URL:https://www.kymenwiener.fi/event/torstai-17-4/
LOCATION:Kymen Wiener\, Laturinkatu 2\, Kouvola\, 45130\, Suomi
CATEGORIES:Lounas
END:VEVENT
BEGIN:VEVENT
DTSTART;TZID=Europe/Helsinki:20250416T103000
DTEND;TZID=Europe/Helsinki:20250416T140000
DTSTAMP:20260425T170242
CREATED:20250411T105528Z
LAST-MODIFIED:20250411T105528Z
UID:1100-1744799400-1744812000@www.kymenwiener.fi
SUMMARY:Keskiviikko  16.4
DESCRIPTION:Paistetut muikut \nHedelmäinen kaslerpihvi \n  \n  \n 
URL:https://www.kymenwiener.fi/event/keskiviikko-16-4/
LOCATION:Kymen Wiener\, Laturinkatu 2\, Kouvola\, 45130\, Suomi
CATEGORIES:Lounas
END:VEVENT
BEGIN:VEVENT
DTSTART;TZID=Europe/Helsinki:20250415T103000
DTEND;TZID=Europe/Helsinki:20250415T140000
DTSTAMP:20260425T170242
CREATED:20250411T105404Z
LAST-MODIFIED:20250411T105404Z
UID:1098-1744713000-1744725600@www.kymenwiener.fi
SUMMARY:Tiistai 15.4
DESCRIPTION:Maksaa\,pekonia ja sipulia kermassa \nMakkara-juustopihvit \n  \n  \n  \n  \n 
URL:https://www.kymenwiener.fi/event/tiistai-15-4/
LOCATION:Kymen Wiener\, Laturinkatu 2\, Kouvola\, 45130\, Suomi
CATEGORIES:Lounas
END:VEVENT
BEGIN:VEVENT
DTSTART;TZID=Europe/Helsinki:20250414T103000
DTEND;TZID=Europe/Helsinki:20250414T140000
DTSTAMP:20260425T170242
CREATED:20250411T105246Z
LAST-MODIFIED:20250411T105246Z
UID:1096-1744626600-1744639200@www.kymenwiener.fi
SUMMARY:Maanantai 14.4
DESCRIPTION:Paistettua puna-ahventa \nJauhelihamakaronilaatikko
URL:https://www.kymenwiener.fi/event/maanantai-14-4/
LOCATION:Kymen Wiener\, Laturinkatu 2\, Kouvola\, 45130\, Suomi
CATEGORIES:Lounas
END:VEVENT
BEGIN:VEVENT
DTSTART;TZID=Europe/Helsinki:20250411T103000
DTEND;TZID=Europe/Helsinki:20250411T140000
DTSTAMP:20260425T170242
CREATED:20250404T110511Z
LAST-MODIFIED:20250404T110511Z
UID:1093-1744367400-1744380000@www.kymenwiener.fi
SUMMARY:Perjantai  11.4
DESCRIPTION:Manteliseitä / röstisilakoita \nKarjalanpaisti
URL:https://www.kymenwiener.fi/event/perjantai-11-4/
LOCATION:Kymen Wiener\, Laturinkatu 2\, Kouvola\, 45130\, Suomi
CATEGORIES:Lounas
END:VEVENT
BEGIN:VEVENT
DTSTART;TZID=Europe/Helsinki:20250410T103000
DTEND;TZID=Europe/Helsinki:20250410T140000
DTSTAMP:20260425T170242
CREATED:20250404T110312Z
LAST-MODIFIED:20250404T110312Z
UID:1091-1744281000-1744293600@www.kymenwiener.fi
SUMMARY:Torstai  10.4
DESCRIPTION:Broileria tomaattikermassa \nPyttipannu \n  \n  \n 
URL:https://www.kymenwiener.fi/event/torstai-10-4/
LOCATION:Kymen Wiener\, Laturinkatu 2\, Kouvola\, 45130\, Suomi
CATEGORIES:Lounas
END:VEVENT
BEGIN:VEVENT
DTSTART;TZID=Europe/Helsinki:20250409T103000
DTEND;TZID=Europe/Helsinki:20250409T140000
DTSTAMP:20260425T170242
CREATED:20250404T110145Z
LAST-MODIFIED:20250404T110145Z
UID:1089-1744194600-1744207200@www.kymenwiener.fi
SUMMARY:Keskiviikko  9.4
DESCRIPTION:Palvilihan makkaroita ja juustoperunat \nKaalikääryleet \n  \n  \n 
URL:https://www.kymenwiener.fi/event/keskiviikko-9-4/
LOCATION:Kymen Wiener\, Laturinkatu 2\, Kouvola\, 45130\, Suomi
CATEGORIES:Lounas
END:VEVENT
BEGIN:VEVENT
DTSTART;TZID=Europe/Helsinki:20250408T103000
DTEND;TZID=Europe/Helsinki:20250408T140000
DTSTAMP:20260425T170242
CREATED:20250404T110013Z
LAST-MODIFIED:20250404T110013Z
UID:1087-1744108200-1744120800@www.kymenwiener.fi
SUMMARY:Tiistai 8.4
DESCRIPTION:Broileriwokki \nJauhelihalasagne \n  \n  \n  \n  \n 
URL:https://www.kymenwiener.fi/event/tiistai-8-4/
LOCATION:Kymen Wiener\, Laturinkatu 2\, Kouvola\, 45130\, Suomi
CATEGORIES:Lounas
END:VEVENT
BEGIN:VEVENT
DTSTART;TZID=Europe/Helsinki:20250407T103000
DTEND;TZID=Europe/Helsinki:20250407T140000
DTSTAMP:20260425T170242
CREATED:20250404T105843Z
LAST-MODIFIED:20250404T105843Z
UID:1085-1744021800-1744034400@www.kymenwiener.fi
SUMMARY:Maanantai 7.4
DESCRIPTION:Paistettua chilikalaa/ yrtti-juustokalaa \nKoskenlaskijan possupataa
URL:https://www.kymenwiener.fi/event/maanantai-7-4/
LOCATION:Kymen Wiener\, Laturinkatu 2\, Kouvola\, 45130\, Suomi
CATEGORIES:Lounas
END:VEVENT
BEGIN:VEVENT
DTSTART;TZID=Europe/Helsinki:20250404T103000
DTEND;TZID=Europe/Helsinki:20250404T140000
DTSTAMP:20260425T170242
CREATED:20250328T120028Z
LAST-MODIFIED:20250328T120028Z
UID:1083-1743762600-1743775200@www.kymenwiener.fi
SUMMARY:Perjantai  4.4
DESCRIPTION:Kinkku+sipulimunakas \nLäskisoossi
URL:https://www.kymenwiener.fi/event/perjantai-4-4/
LOCATION:Kymen Wiener\, Laturinkatu 2\, Kouvola\, 45130\, Suomi
CATEGORIES:Lounas
END:VEVENT
BEGIN:VEVENT
DTSTART;TZID=Europe/Helsinki:20250403T103000
DTEND;TZID=Europe/Helsinki:20250403T140000
DTSTAMP:20260425T170242
CREATED:20250328T115835Z
LAST-MODIFIED:20250328T115835Z
UID:1081-1743676200-1743688800@www.kymenwiener.fi
SUMMARY:Torstai  3.4
DESCRIPTION:Paistettua kampelaa \nMerimiespihvi \nSinappimakkaraa \n  \n  \n 
URL:https://www.kymenwiener.fi/event/torstai-3-4/
LOCATION:Kymen Wiener\, Laturinkatu 2\, Kouvola\, 45130\, Suomi
CATEGORIES:Lounas
END:VEVENT
BEGIN:VEVENT
DTSTART;TZID=Europe/Helsinki:20250402T103000
DTEND;TZID=Europe/Helsinki:20250402T140000
DTSTAMP:20260425T170242
CREATED:20250328T115551Z
LAST-MODIFIED:20250328T115551Z
UID:1079-1743589800-1743602400@www.kymenwiener.fi
SUMMARY:Keskiviikko  2.4
DESCRIPTION:Maksa-pekoni- sipulikermapata \nJauhelihapihvi ( oma tekemä) \n  \n  \n 
URL:https://www.kymenwiener.fi/event/keskiviikko-2-4/
LOCATION:Kymen Wiener\, Laturinkatu 2\, Kouvola\, 45130\, Suomi
CATEGORIES:Lounas
END:VEVENT
BEGIN:VEVENT
DTSTART;TZID=Europe/Helsinki:20250401T103000
DTEND;TZID=Europe/Helsinki:20250401T140000
DTSTAMP:20260425T170242
CREATED:20250328T115401Z
LAST-MODIFIED:20250328T115401Z
UID:1077-1743503400-1743516000@www.kymenwiener.fi
SUMMARY:Tiistai 1.4
DESCRIPTION:Kievin kanaa \nPossunpihvi pippurikastikkeessa \n  \n  \n  \n 
URL:https://www.kymenwiener.fi/event/tiistai-1-4/
LOCATION:Kymen Wiener\, Laturinkatu 2\, Kouvola\, 45130\, Suomi
CATEGORIES:Lounas
END:VEVENT
BEGIN:VEVENT
DTSTART;TZID=Europe/Helsinki:20250331T103000
DTEND;TZID=Europe/Helsinki:20250331T140000
DTSTAMP:20260425T170242
CREATED:20250328T115235Z
LAST-MODIFIED:20250328T115235Z
UID:1075-1743417000-1743429600@www.kymenwiener.fi
SUMMARY:Maanantai 31.3
DESCRIPTION:Lohimurekepihvit \nJauhelihakastike
URL:https://www.kymenwiener.fi/event/maanantai-31-3/
LOCATION:Kymen Wiener\, Laturinkatu 2\, Kouvola\, 45130\, Suomi
CATEGORIES:Lounas
END:VEVENT
BEGIN:VEVENT
DTSTART;TZID=Europe/Helsinki:20250328T103000
DTEND;TZID=Europe/Helsinki:20250328T140000
DTSTAMP:20260425T170242
CREATED:20250321T113220Z
LAST-MODIFIED:20250321T113220Z
UID:1072-1743157800-1743170400@www.kymenwiener.fi
SUMMARY:Perjantai  28.3
DESCRIPTION:Kinkku-juustokiusaus \nMakkarakastike
URL:https://www.kymenwiener.fi/event/perjantai-28-3/
LOCATION:Kymen Wiener\, Laturinkatu 2\, Kouvola\, 45130\, Suomi
CATEGORIES:Lounas
END:VEVENT
BEGIN:VEVENT
DTSTART;TZID=Europe/Helsinki:20250327T103000
DTEND;TZID=Europe/Helsinki:20250327T140000
DTSTAMP:20260425T170242
CREATED:20250321T113112Z
LAST-MODIFIED:20250321T113112Z
UID:1070-1743071400-1743084000@www.kymenwiener.fi
SUMMARY:Torstai  27.3
DESCRIPTION:Paistettuja muikuja \nJauhelihamureke ( oma tekemä) ja metsäsienikastike \n  \n 
URL:https://www.kymenwiener.fi/event/torstai-27-3/
LOCATION:Kymen Wiener\, Laturinkatu 2\, Kouvola\, 45130\, Suomi
CATEGORIES:Lounas
END:VEVENT
BEGIN:VEVENT
DTSTART;TZID=Europe/Helsinki:20250326T103000
DTEND;TZID=Europe/Helsinki:20250326T140000
DTSTAMP:20260425T170242
CREATED:20250321T112925Z
LAST-MODIFIED:20250321T112925Z
UID:1068-1742985000-1742997600@www.kymenwiener.fi
SUMMARY:Keskiviikko  26.3
DESCRIPTION:Rosepippuri broileripata \nUunilenkki \n  \n  \n 
URL:https://www.kymenwiener.fi/event/keskiviikko-26-3/
LOCATION:Kymen Wiener\, Laturinkatu 2\, Kouvola\, 45130\, Suomi
CATEGORIES:Lounas
END:VEVENT
BEGIN:VEVENT
DTSTART;TZID=Europe/Helsinki:20250325T103000
DTEND;TZID=Europe/Helsinki:20250325T140000
DTSTAMP:20260425T170242
CREATED:20250321T112746Z
LAST-MODIFIED:20250321T112746Z
UID:1066-1742898600-1742911200@www.kymenwiener.fi
SUMMARY:Tiistai 25.3
DESCRIPTION:Paistettua puna-ahventa \nPossunfilettä ja valkosipuliperunat \n  \n  \n  \n 
URL:https://www.kymenwiener.fi/event/tiistai-25-3/
LOCATION:Kymen Wiener\, Laturinkatu 2\, Kouvola\, 45130\, Suomi
CATEGORIES:Lounas
END:VEVENT
BEGIN:VEVENT
DTSTART;TZID=Europe/Helsinki:20250324T103000
DTEND;TZID=Europe/Helsinki:20250324T140000
DTSTAMP:20260425T170242
CREATED:20250321T112626Z
LAST-MODIFIED:20250321T112626Z
UID:1064-1742812200-1742824800@www.kymenwiener.fi
SUMMARY:Maanantai 24.3
DESCRIPTION:Paistettu kananpaistileike \nKaalilaatikko
URL:https://www.kymenwiener.fi/event/maanantai-24-3/
LOCATION:Kymen Wiener\, Laturinkatu 2\, Kouvola\, 45130\, Suomi
CATEGORIES:Lounas
END:VEVENT
BEGIN:VEVENT
DTSTART;TZID=Europe/Helsinki:20250321T103000
DTEND;TZID=Europe/Helsinki:20250321T140000
DTSTAMP:20260425T170242
CREATED:20250313T123624Z
LAST-MODIFIED:20250313T123624Z
UID:1062-1742553000-1742565600@www.kymenwiener.fi
SUMMARY:Perjantai  21.3
DESCRIPTION:Broileriwokki \nMakkara-juustopihvit
URL:https://www.kymenwiener.fi/event/perjantai-21-3/
LOCATION:Kymen Wiener\, Laturinkatu 2\, Kouvola\, 45130\, Suomi
CATEGORIES:Lounas
END:VEVENT
BEGIN:VEVENT
DTSTART;TZID=Europe/Helsinki:20250320T103000
DTEND;TZID=Europe/Helsinki:20250320T140000
DTSTAMP:20260425T170242
CREATED:20250313T123515Z
LAST-MODIFIED:20250313T123515Z
UID:1060-1742466600-1742479200@www.kymenwiener.fi
SUMMARY:Torstai  20.3
DESCRIPTION:Silakkapihvit ( juustotäyte) \nHedelmäinen kaslerpihvi \nLäskisoossi \n 
URL:https://www.kymenwiener.fi/event/torstai-20-3/
LOCATION:Kymen Wiener\, Laturinkatu 2\, Kouvola\, 45130\, Suomi
CATEGORIES:Lounas
END:VEVENT
BEGIN:VEVENT
DTSTART;TZID=Europe/Helsinki:20250319T103000
DTEND;TZID=Europe/Helsinki:20250319T140000
DTSTAMP:20260425T170242
CREATED:20250313T123345Z
LAST-MODIFIED:20250313T123345Z
UID:1058-1742380200-1742392800@www.kymenwiener.fi
SUMMARY:Keskiviikko  19.3
DESCRIPTION:Broilerikiusaus \nLihapullat ( oma tekemät) \n  \n  \n 
URL:https://www.kymenwiener.fi/event/keskiviikko-19-3/
LOCATION:Kymen Wiener\, Laturinkatu 2\, Kouvola\, 45130\, Suomi
CATEGORIES:Lounas
END:VEVENT
BEGIN:VEVENT
DTSTART;TZID=Europe/Helsinki:20250318T103000
DTEND;TZID=Europe/Helsinki:20250318T140000
DTSTAMP:20260425T170242
CREATED:20250313T123147Z
LAST-MODIFIED:20250313T123147Z
UID:1056-1742293800-1742306400@www.kymenwiener.fi
SUMMARY:Tiistai 18.3
DESCRIPTION:Maksaa-pekonia-sipulia kermassa \nPyttipannu \n  \n  \n  \n 
URL:https://www.kymenwiener.fi/event/tiistai-18-3/
LOCATION:Kymen Wiener\, Laturinkatu 2\, Kouvola\, 45130\, Suomi
CATEGORIES:Lounas
END:VEVENT
BEGIN:VEVENT
DTSTART;TZID=Europe/Helsinki:20250317T103000
DTEND;TZID=Europe/Helsinki:20250317T140000
DTSTAMP:20260425T170242
CREATED:20250313T123042Z
LAST-MODIFIED:20250313T123042Z
UID:1054-1742207400-1742220000@www.kymenwiener.fi
SUMMARY:Maanantai 17.3
DESCRIPTION:Täytetty kalkkunapihvi \nKarjalanpaisti
URL:https://www.kymenwiener.fi/event/maanantai-17-3/
LOCATION:Kymen Wiener\, Laturinkatu 2\, Kouvola\, 45130\, Suomi
CATEGORIES:Lounas
END:VEVENT
END:VCALENDAR